BEGIN:VCALENDAR
VERSION:2.0
PRODID:-//Run Wild Missoula - ECPv6.15.18//NONSGML v1.0//EN
CALSCALE:GREGORIAN
METHOD:PUBLISH
X-WR-CALNAME:Run Wild Missoula
X-ORIGINAL-URL:https://www.runwildmissoula.org
X-WR-CALDESC:Events for Run Wild Missoula
REFRESH-INTERVAL;VALUE=DURATION:PT1H
X-Robots-Tag:noindex
X-PUBLISHED-TTL:PT1H
BEGIN:VTIMEZONE
TZID:America/Denver
BEGIN:DAYLIGHT
TZOFFSETFROM:-0700
TZOFFSETTO:-0600
TZNAME:MDT
DTSTART:20230312T090000
END:DAYLIGHT
BEGIN:STANDARD
TZOFFSETFROM:-0600
TZOFFSETTO:-0700
TZNAME:MST
DTSTART:20231105T080000
END:STANDARD
BEGIN:DAYLIGHT
TZOFFSETFROM:-0700
TZOFFSETTO:-0600
TZNAME:MDT
DTSTART:20240310T090000
END:DAYLIGHT
BEGIN:STANDARD
TZOFFSETFROM:-0600
TZOFFSETTO:-0700
TZNAME:MST
DTSTART:20241103T080000
END:STANDARD
BEGIN:DAYLIGHT
TZOFFSETFROM:-0700
TZOFFSETTO:-0600
TZNAME:MDT
DTSTART:20250309T090000
END:DAYLIGHT
BEGIN:STANDARD
TZOFFSETFROM:-0600
TZOFFSETTO:-0700
TZNAME:MST
DTSTART:20251102T080000
END:STANDARD
BEGIN:DAYLIGHT
TZOFFSETFROM:-0700
TZOFFSETTO:-0600
TZNAME:MDT
DTSTART:20260308T090000
END:DAYLIGHT
BEGIN:STANDARD
TZOFFSETFROM:-0600
TZOFFSETTO:-0700
TZNAME:MST
DTSTART:20261101T080000
END:STANDARD
END:VTIMEZONE
BEGIN:VEVENT
DTSTART;TZID=America/Denver:20241204T173000
DTEND;TZID=America/Denver:20241204T183000
DTSTAMP:20260419T165935
CREATED:20240718T204914Z
LAST-MODIFIED:20240718T204914Z
UID:10433-1733333400-1733337000@www.runwildmissoula.org
SUMMARY:Wednesday Evening Yoga
DESCRIPTION:
URL:https://www.runwildmissoula.org/event/wednesday-evening-yoga-35/
LOCATION:Runner’s Edge\, 304 N Higgins Ave\, Missoula\, MT\, 59802\, United States
ORGANIZER;CN="RWM Programs":MAILTO:sidneys@runwildmissoula.org
END:VEVENT
BEGIN:VEVENT
DTSTART;TZID=America/Denver:20241208T090000
DTEND;TZID=America/Denver:20241208T100000
DTSTAMP:20260419T165935
CREATED:20241206T162159Z
LAST-MODIFIED:20241206T162159Z
UID:11114-1733648400-1733652000@www.runwildmissoula.org
SUMMARY:Roads Tracks & Trails Group Run
DESCRIPTION:
URL:https://www.runwildmissoula.org/event/roads-tracks-trails-group-run/
LOCATION:Runner’s Edge\, 304 N Higgins Ave\, Missoula\, MT\, 59802\, United States
ORGANIZER;CN="Run Wild Missoula":MAILTO:info@runwildmissoula.org
END:VEVENT
BEGIN:VEVENT
DTSTART;TZID=America/Denver:20241209T121500
DTEND;TZID=America/Denver:20241209T130000
DTSTAMP:20260419T165935
CREATED:20240718T201155Z
LAST-MODIFIED:20240718T201155Z
UID:10411-1733746500-1733749200@www.runwildmissoula.org
SUMMARY:Monday Lunch Yoga
DESCRIPTION:
URL:https://www.runwildmissoula.org/event/monday-lunch-yoga-37/
LOCATION:Runner’s Edge\, 304 N Higgins Ave\, Missoula\, MT\, 59802\, United States
ORGANIZER;CN="RWM Programs":MAILTO:sidneys@runwildmissoula.org
END:VEVENT
BEGIN:VEVENT
DTSTART;TZID=America/Denver:20241210T180000
DTEND;TZID=America/Denver:20241210T200000
DTSTAMP:20260419T165935
CREATED:20240605T181414Z
LAST-MODIFIED:20240605T181414Z
UID:10254-1733853600-1733860800@www.runwildmissoula.org
SUMMARY:Queer Run Missoula
DESCRIPTION:This group unifies queer individuals who share the same love for running and walking within the Missoula community. We aim to foster a welcoming space for queer individuals\, creating representation of the LGBTQIA+ community within running and walking\, both road and trail\, ideally becoming examples and voices for others. \nThis monthly meetup is a casual fun run/walk open to all runners and walkers of all abilities. Each month a 3 and 5 mile route is offered. At the end is a social gathering with libations and food.  \nThis event is reserved for members of the LGBTQIA+ community. While we are grateful for our allies\, we’re excited to offer this experience for our queer community.  \nRun Wild Missoula membership is not required\, but encouraged. Runners are responsible for their own beverage and food purchases. Non-alcoholic beverages are also available.
URL:https://www.runwildmissoula.org/event/queer-run-missoula-8/
LOCATION:Tamarack Brewing\, 231 W Front St\, Missoula\, MT\, 59802\, United States
ORGANIZER;CN="RWM Programs":MAILTO:sidneys@runwildmissoula.org
END:VEVENT
BEGIN:VEVENT
DTSTART;TZID=America/Denver:20241211T173000
DTEND;TZID=America/Denver:20241211T183000
DTSTAMP:20260419T165935
CREATED:20240718T205438Z
LAST-MODIFIED:20240718T205438Z
UID:10435-1733938200-1733941800@www.runwildmissoula.org
SUMMARY:Wednesday Evening Yoga
DESCRIPTION:
URL:https://www.runwildmissoula.org/event/wednesday-evening-yoga-36/
LOCATION:Runner’s Edge\, 304 N Higgins Ave\, Missoula\, MT\, 59802\, United States
ORGANIZER;CN="RWM Programs":MAILTO:sidneys@runwildmissoula.org
END:VEVENT
BEGIN:VEVENT
DTSTART;TZID=America/Denver:20241212T180000
DTEND;TZID=America/Denver:20241212T190000
DTSTAMP:20260419T165935
CREATED:20241206T161508Z
LAST-MODIFIED:20241206T161508Z
UID:11110-1734026400-1734030000@www.runwildmissoula.org
SUMMARY:Dry Miles
DESCRIPTION:
URL:https://www.runwildmissoula.org/event/dry-miles/
LOCATION:Pie Hole\, 525 N Higgins Ave\, Missoula\, MT\, 59802\, United States
ORGANIZER;CN="RWM Programs":MAILTO:sidneys@runwildmissoula.org
END:VEVENT
BEGIN:VEVENT
DTSTART;TZID=America/Denver:20241218T180000
DTEND;TZID=America/Denver:20241218T200000
DTSTAMP:20260419T165935
CREATED:20240315T232840Z
LAST-MODIFIED:20241121T184453Z
UID:9994-1734544800-1734552000@www.runwildmissoula.org
SUMMARY:Last Wednesday Beer Run
DESCRIPTION:ONE WEEK EARLIER DUE TO CHRISTMAS \n“5 Miles to Beer Thirty” – The monthly beer run is a casual fun run/walk open to all runners and all abilities. Each month a 3 and 5 mile route is offered at a different brewery location on the last Wednesday of the month (schedule below)\, and at the end is a social gathering with libations and food. What could be a better way to end the month? \nAll of our beer runs are open to all runners and walkers. Run Wild Missoula membership is not required. Runners are responsible for their own beverage and food purchases. Non-alcoholic beverages are also available. \nGot Questions? Contact us
URL:https://www.runwildmissoula.org/event/last-wednesday-beer-run-9/
LOCATION:Highlander Brewing Co\, 200 International Drive\, Missoula\, MT\, 59808\, United States
ATTACH;FMTTYPE=image/png:https://www.runwildmissoula.org/wp-content/uploads/2023/11/logo-missoula-brewing-co.png
ORGANIZER;CN="Run Wild Missoula":MAILTO:info@runwildmissoula.org
END:VEVENT
BEGIN:VEVENT
DTSTART;TZID=America/Denver:20241223T080000
DTEND;TZID=America/Denver:20241228T170000
DTSTAMP:20260419T165935
CREATED:20241206T162514Z
LAST-MODIFIED:20241206T162514Z
UID:11118-1734940800-1735405200@www.runwildmissoula.org
SUMMARY:RWM Office Closed
DESCRIPTION:RWM Office Closed for Christmas!
URL:https://www.runwildmissoula.org/event/rwm-office-closed-7/
LOCATION:125 E Main St\, 125 E Main St\, Missoula\, MT\, 59802\, United States
END:VEVENT
BEGIN:VEVENT
DTSTART;TZID=America/Denver:20250101T100000
DTEND;TZID=America/Denver:20250101T120000
DTSTAMP:20260419T165935
CREATED:20241029T202311Z
LAST-MODIFIED:20241029T204146Z
UID:10934-1735725600-1735732800@www.runwildmissoula.org
SUMMARY:Resolution Run 5K
DESCRIPTION:Start the year off on the right foot with a five dollar 5k! \nRunner’s Edge Events and Run Wild Missoula are excited bring in the the New Year with the 2025 Resolution Run!  \nNot interested in running an in-person event? No problem. Join the Virtual Resolution Run for 2025!  Run a 5k on January 1st\, record your time\, submit your results\, pick up your No-Peek Envelope at Runner’s Edge. \nIn order to maintain the spirit of this event and sustain accessibility\, we will not be offering a swag item for the Resolution Run 5K. Instead\, we encourage participants to BYOM (bring your own mug!).
URL:https://www.runwildmissoula.org/event/resolution-run-5k-4/
LOCATION:Pineview Park\, 1010 Pineview Dr.\, Missoula\, Montana\, 59802
ORGANIZER;CN="Run Wild Missoula":MAILTO:info@runwildmissoula.org
END:VEVENT
BEGIN:VEVENT
DTSTART;TZID=America/Denver:20250106T121500
DTEND;TZID=America/Denver:20250106T130000
DTSTAMP:20260419T165935
CREATED:20241211T220854Z
LAST-MODIFIED:20241211T220854Z
UID:11144-1736165700-1736168400@www.runwildmissoula.org
SUMMARY:Monday Lunch Yoga
DESCRIPTION:
URL:https://www.runwildmissoula.org/event/monday-lunch-yoga-38/
LOCATION:Runner’s Edge\, 304 N Higgins Ave\, Missoula\, MT\, 59802\, United States
ORGANIZER;CN="RWM Programs":MAILTO:sidneys@runwildmissoula.org
END:VEVENT
BEGIN:VEVENT
DTSTART;TZID=America/Denver:20250108T173000
DTEND;TZID=America/Denver:20250108T183000
DTSTAMP:20260419T165935
CREATED:20241211T231735Z
LAST-MODIFIED:20241211T231735Z
UID:11168-1736357400-1736361000@www.runwildmissoula.org
SUMMARY:Wednesday Evening Yoga
DESCRIPTION:
URL:https://www.runwildmissoula.org/event/wednesday-evening-yoga-37/
LOCATION:Runner’s Edge\, 304 N Higgins Ave\, Missoula\, MT\, 59802\, United States
ORGANIZER;CN="RWM Programs":MAILTO:sidneys@runwildmissoula.org
END:VEVENT
BEGIN:VEVENT
DTSTART;TZID=America/Denver:20250109T180000
DTEND;TZID=America/Denver:20250109T190000
DTSTAMP:20260419T165935
CREATED:20241206T162426Z
LAST-MODIFIED:20241206T162426Z
UID:11116-1736445600-1736449200@www.runwildmissoula.org
SUMMARY:Dry Miles
DESCRIPTION:
URL:https://www.runwildmissoula.org/event/dry-miles-2/
LOCATION:Pie Hole\, 525 N Higgins Ave\, Missoula\, MT\, 59802\, United States
END:VEVENT
BEGIN:VEVENT
DTSTART;TZID=America/Denver:20250113T121500
DTEND;TZID=America/Denver:20250113T130000
DTSTAMP:20260419T165935
CREATED:20241211T221521Z
LAST-MODIFIED:20241211T221521Z
UID:11146-1736770500-1736773200@www.runwildmissoula.org
SUMMARY:Monday Lunch Yoga
DESCRIPTION:
URL:https://www.runwildmissoula.org/event/monday-lunch-yoga-39/
LOCATION:Runner’s Edge\, 304 N Higgins Ave\, Missoula\, MT\, 59802\, United States
ORGANIZER;CN="RWM Programs":MAILTO:sidneys@runwildmissoula.org
END:VEVENT
BEGIN:VEVENT
DTSTART;TZID=America/Denver:20250115T173000
DTEND;TZID=America/Denver:20250115T183000
DTSTAMP:20260419T165935
CREATED:20241211T231928Z
LAST-MODIFIED:20241211T231928Z
UID:11170-1736962200-1736965800@www.runwildmissoula.org
SUMMARY:Wednesday Evening Yoga
DESCRIPTION:
URL:https://www.runwildmissoula.org/event/wednesday-evening-yoga-38/
LOCATION:Runner’s Edge\, 304 N Higgins Ave\, Missoula\, MT\, 59802\, United States
ORGANIZER;CN="RWM Programs":MAILTO:sidneys@runwildmissoula.org
END:VEVENT
BEGIN:VEVENT
DTSTART;VALUE=DATE:20250120
DTEND;VALUE=DATE:20250121
DTSTAMP:20260419T165935
CREATED:20241206T163455Z
LAST-MODIFIED:20241206T163455Z
UID:11120-1737331200-1737417599@www.runwildmissoula.org
SUMMARY:RWM Office Closed
DESCRIPTION:MLK Day!
URL:https://www.runwildmissoula.org/event/rwm-office-closed-8/
LOCATION:125 E Main St\, 125 E Main St\, Missoula\, MT\, 59802\, United States
END:VEVENT
BEGIN:VEVENT
DTSTART;TZID=America/Denver:20250120T121500
DTEND;TZID=America/Denver:20250120T130000
DTSTAMP:20260419T165935
CREATED:20241211T221556Z
LAST-MODIFIED:20241211T221556Z
UID:11148-1737375300-1737378000@www.runwildmissoula.org
SUMMARY:Monday Lunch Yoga
DESCRIPTION:
URL:https://www.runwildmissoula.org/event/monday-lunch-yoga-40/
LOCATION:Runner’s Edge\, 304 N Higgins Ave\, Missoula\, MT\, 59802\, United States
ORGANIZER;CN="RWM Programs":MAILTO:sidneys@runwildmissoula.org
END:VEVENT
BEGIN:VEVENT
DTSTART;TZID=America/Denver:20250122T173000
DTEND;TZID=America/Denver:20250122T183000
DTSTAMP:20260419T165935
CREATED:20241211T231956Z
LAST-MODIFIED:20241211T231956Z
UID:11172-1737567000-1737570600@www.runwildmissoula.org
SUMMARY:Wednesday Evening Yoga
DESCRIPTION:
URL:https://www.runwildmissoula.org/event/wednesday-evening-yoga-39/
LOCATION:Runner’s Edge\, 304 N Higgins Ave\, Missoula\, MT\, 59802\, United States
ORGANIZER;CN="RWM Programs":MAILTO:sidneys@runwildmissoula.org
END:VEVENT
BEGIN:VEVENT
DTSTART;TZID=America/Denver:20250127T121500
DTEND;TZID=America/Denver:20250127T130000
DTSTAMP:20260419T165935
CREATED:20241211T221636Z
LAST-MODIFIED:20241211T221636Z
UID:11150-1737980100-1737982800@www.runwildmissoula.org
SUMMARY:Monday Lunch Yoga
DESCRIPTION:
URL:https://www.runwildmissoula.org/event/monday-lunch-yoga-41/
LOCATION:Runner’s Edge\, 304 N Higgins Ave\, Missoula\, MT\, 59802\, United States
ORGANIZER;CN="RWM Programs":MAILTO:sidneys@runwildmissoula.org
END:VEVENT
BEGIN:VEVENT
DTSTART;TZID=America/Denver:20250129T173000
DTEND;TZID=America/Denver:20250129T183000
DTSTAMP:20260419T165935
CREATED:20241211T232026Z
LAST-MODIFIED:20241211T232026Z
UID:11174-1738171800-1738175400@www.runwildmissoula.org
SUMMARY:Wednesday Evening Yoga
DESCRIPTION:
URL:https://www.runwildmissoula.org/event/wednesday-evening-yoga-40/
LOCATION:Runner’s Edge\, 304 N Higgins Ave\, Missoula\, MT\, 59802\, United States
ORGANIZER;CN="RWM Programs":MAILTO:sidneys@runwildmissoula.org
END:VEVENT
BEGIN:VEVENT
DTSTART;TZID=America/Denver:20250129T173000
DTEND;TZID=America/Denver:20250129T200000
DTSTAMP:20260419T165935
CREATED:20250122T182740Z
LAST-MODIFIED:20250122T182740Z
UID:11308-1738171800-1738180800@www.runwildmissoula.org
SUMMARY:January Beer Run & Missoula Marathon Local's Registration Party
DESCRIPTION:
URL:https://www.runwildmissoula.org/event/january-beer-run-missoula-marathon-locals-registration-party/
LOCATION:Big Sky Brewing\, 5417 Trumpeter Way\, Missoula\, MT\, 59808\, United States
END:VEVENT
BEGIN:VEVENT
DTSTART;TZID=America/Denver:20250203T121500
DTEND;TZID=America/Denver:20250203T130000
DTSTAMP:20260419T165935
CREATED:20241211T221839Z
LAST-MODIFIED:20241211T221839Z
UID:11152-1738584900-1738587600@www.runwildmissoula.org
SUMMARY:Monday Lunch Yoga
DESCRIPTION:
URL:https://www.runwildmissoula.org/event/monday-lunch-yoga-42/
LOCATION:Runner’s Edge\, 304 N Higgins Ave\, Missoula\, MT\, 59802\, United States
ORGANIZER;CN="RWM Programs":MAILTO:sidneys@runwildmissoula.org
END:VEVENT
BEGIN:VEVENT
DTSTART;TZID=America/Denver:20250205T173000
DTEND;TZID=America/Denver:20250205T183000
DTSTAMP:20260419T165935
CREATED:20241211T232055Z
LAST-MODIFIED:20241211T232055Z
UID:11176-1738776600-1738780200@www.runwildmissoula.org
SUMMARY:Wednesday Evening Yoga
DESCRIPTION:
URL:https://www.runwildmissoula.org/event/wednesday-evening-yoga-41/
LOCATION:Runner’s Edge\, 304 N Higgins Ave\, Missoula\, MT\, 59802\, United States
ORGANIZER;CN="RWM Programs":MAILTO:sidneys@runwildmissoula.org
END:VEVENT
BEGIN:VEVENT
DTSTART;TZID=America/Denver:20250210T121500
DTEND;TZID=America/Denver:20250210T130000
DTSTAMP:20260419T165935
CREATED:20241211T222154Z
LAST-MODIFIED:20241211T222154Z
UID:11154-1739189700-1739192400@www.runwildmissoula.org
SUMMARY:Monday Lunch Yoga
DESCRIPTION:
URL:https://www.runwildmissoula.org/event/monday-lunch-yoga-43/
LOCATION:Runner’s Edge\, 304 N Higgins Ave\, Missoula\, MT\, 59802\, United States
ORGANIZER;CN="RWM Programs":MAILTO:sidneys@runwildmissoula.org
END:VEVENT
BEGIN:VEVENT
DTSTART;TZID=America/Denver:20250212T173000
DTEND;TZID=America/Denver:20250212T183000
DTSTAMP:20260419T165935
CREATED:20241211T232121Z
LAST-MODIFIED:20241211T232121Z
UID:11178-1739381400-1739385000@www.runwildmissoula.org
SUMMARY:Wednesday Evening Yoga
DESCRIPTION:
URL:https://www.runwildmissoula.org/event/wednesday-evening-yoga-42/
LOCATION:Runner’s Edge\, 304 N Higgins Ave\, Missoula\, MT\, 59802\, United States
ORGANIZER;CN="RWM Programs":MAILTO:sidneys@runwildmissoula.org
END:VEVENT
BEGIN:VEVENT
DTSTART;TZID=America/Denver:20250213T180000
DTEND;TZID=America/Denver:20250213T190000
DTSTAMP:20260419T165935
CREATED:20250117T223125Z
LAST-MODIFIED:20250117T223125Z
UID:11304-1739469600-1739473200@www.runwildmissoula.org
SUMMARY:Dry Miles
DESCRIPTION:
URL:https://www.runwildmissoula.org/event/dry-miles-3/
LOCATION:Pie Hole\, 525 N Higgins Ave\, Missoula\, MT\, 59802\, United States
ORGANIZER;CN="Run Wild Missoula":MAILTO:info@runwildmissoula.org
END:VEVENT
BEGIN:VEVENT
DTSTART;TZID=America/Denver:20250214T180000
DTEND;TZID=America/Denver:20250214T200000
DTSTAMP:20260419T165935
CREATED:20250130T183610Z
LAST-MODIFIED:20250130T184011Z
UID:11404-1739556000-1739563200@www.runwildmissoula.org
SUMMARY:Sole Mates: A Valentine's Day Run & Social
DESCRIPTION:Looking for love\, friendship\, or just a new running buddy? Join us for Sole Mates—a fun\, social run designed to bring people together! We’ll kick things off with a 3-mile\, socially-paced run before heading to Imagine Nation Brewing for trivia and great conversation. Whether you’re searching for romance or just want to meet fellow runners\, this event is the perfect way to connect. \nLace up\, make connections\, and let’s run into new relationships—one stride at a time!
URL:https://www.runwildmissoula.org/event/sole-mates-a-valentines-day-run-social/
LOCATION:Imagine Nation Brewing\, 1151 W Broadway St\, Missoula\, Montana\, 59802
ORGANIZER;CN="RWM Programs":MAILTO:sidneys@runwildmissoula.org
END:VEVENT
BEGIN:VEVENT
DTSTART;TZID=America/Denver:20250215T100000
DTEND;TZID=America/Denver:20250215T120000
DTSTAMP:20260419T165935
CREATED:20241029T202720Z
LAST-MODIFIED:20241029T204417Z
UID:10936-1739613600-1739620800@www.runwildmissoula.org
SUMMARY:Heart Throb 5K
DESCRIPTION:  \n\nRun Wild Missoula is pleased to bring you the Heart Throb 5K\, Gay 80’s Edition\, fueled by love! \n\n\nJoin us on for the Heart Throb 5K and show your support for love! — Wear anything 80s themed\, rainbow\, or just plain fabulous! This will be a great day to celebrate diversity\, inclusion\, and self-expression. Let’s get together and embrace that LOVE IS LOVE!
URL:https://www.runwildmissoula.org/event/heart-throb-5k-3/
LOCATION:Target Range School Gym\, 4095 South Avenue West\, Missoula\, Montana\, 59804
ORGANIZER;CN="Run Wild Missoula":MAILTO:info@runwildmissoula.org
END:VEVENT
BEGIN:VEVENT
DTSTART;TZID=America/Denver:20250217T121500
DTEND;TZID=America/Denver:20250217T130000
DTSTAMP:20260419T165935
CREATED:20241211T222235Z
LAST-MODIFIED:20241211T222235Z
UID:11156-1739794500-1739797200@www.runwildmissoula.org
SUMMARY:Monday Lunch Yoga
DESCRIPTION:
URL:https://www.runwildmissoula.org/event/monday-lunch-yoga-44/
LOCATION:Runner’s Edge\, 304 N Higgins Ave\, Missoula\, MT\, 59802\, United States
ORGANIZER;CN="RWM Programs":MAILTO:sidneys@runwildmissoula.org
END:VEVENT
BEGIN:VEVENT
DTSTART;TZID=America/Denver:20250219T173000
DTEND;TZID=America/Denver:20250219T183000
DTSTAMP:20260419T165935
CREATED:20241211T232149Z
LAST-MODIFIED:20241211T232149Z
UID:11180-1739986200-1739989800@www.runwildmissoula.org
SUMMARY:Wednesday Evening Yoga
DESCRIPTION:
URL:https://www.runwildmissoula.org/event/wednesday-evening-yoga-43/
LOCATION:Runner’s Edge\, 304 N Higgins Ave\, Missoula\, MT\, 59802\, United States
ORGANIZER;CN="RWM Programs":MAILTO:sidneys@runwildmissoula.org
END:VEVENT
BEGIN:VEVENT
DTSTART;TZID=America/Denver:20250219T173000
DTEND;TZID=America/Denver:20250219T183000
DTSTAMP:20260419T165935
CREATED:20241211T232325Z
LAST-MODIFIED:20241211T232325Z
UID:11186-1739986200-1739989800@www.runwildmissoula.org
SUMMARY:Wednesday Evening Yoga
DESCRIPTION:
URL:https://www.runwildmissoula.org/event/wednesday-evening-yoga-46/
LOCATION:Runner’s Edge\, 304 N Higgins Ave\, Missoula\, MT\, 59802\, United States
ORGANIZER;CN="RWM Programs":MAILTO:sidneys@runwildmissoula.org
END:VEVENT
END:VCALENDAR