BEGIN:VCALENDAR
VERSION:2.0
PRODID:-//Run Wild Missoula - ECPv6.15.18//NONSGML v1.0//EN
CALSCALE:GREGORIAN
METHOD:PUBLISH
X-WR-CALNAME:Run Wild Missoula
X-ORIGINAL-URL:https://www.runwildmissoula.org
X-WR-CALDESC:Events for Run Wild Missoula
REFRESH-INTERVAL;VALUE=DURATION:PT1H
X-Robots-Tag:noindex
X-PUBLISHED-TTL:PT1H
BEGIN:VTIMEZONE
TZID:America/Denver
BEGIN:DAYLIGHT
TZOFFSETFROM:-0700
TZOFFSETTO:-0600
TZNAME:MDT
DTSTART:20240310T090000
END:DAYLIGHT
BEGIN:STANDARD
TZOFFSETFROM:-0600
TZOFFSETTO:-0700
TZNAME:MST
DTSTART:20241103T080000
END:STANDARD
BEGIN:DAYLIGHT
TZOFFSETFROM:-0700
TZOFFSETTO:-0600
TZNAME:MDT
DTSTART:20250309T090000
END:DAYLIGHT
BEGIN:STANDARD
TZOFFSETFROM:-0600
TZOFFSETTO:-0700
TZNAME:MST
DTSTART:20251102T080000
END:STANDARD
BEGIN:DAYLIGHT
TZOFFSETFROM:-0700
TZOFFSETTO:-0600
TZNAME:MDT
DTSTART:20260308T090000
END:DAYLIGHT
BEGIN:STANDARD
TZOFFSETFROM:-0600
TZOFFSETTO:-0700
TZNAME:MST
DTSTART:20261101T080000
END:STANDARD
BEGIN:DAYLIGHT
TZOFFSETFROM:-0700
TZOFFSETTO:-0600
TZNAME:MDT
DTSTART:20270314T090000
END:DAYLIGHT
BEGIN:STANDARD
TZOFFSETFROM:-0600
TZOFFSETTO:-0700
TZNAME:MST
DTSTART:20271107T080000
END:STANDARD
END:VTIMEZONE
BEGIN:VEVENT
DTSTART;TZID=America/Denver:20251117T001500
DTEND;TZID=America/Denver:20251117T130000
DTSTAMP:20260420T105529
CREATED:20250728T163741Z
LAST-MODIFIED:20250728T163741Z
UID:12153-1763338500-1763384400@www.runwildmissoula.org
SUMMARY:Monday Lunch Yoga with Missy Adams
DESCRIPTION:
URL:https://www.runwildmissoula.org/event/monday-lunch-yoga-with-missy-adams-11/
LOCATION:Runner’s Edge\, 304 N Higgins Ave\, Missoula\, MT\, 59802\, United States
ORGANIZER;CN="RWM Programs":MAILTO:sidneys@runwildmissoula.org
END:VEVENT
BEGIN:VEVENT
DTSTART;TZID=America/Denver:20251119T173000
DTEND;TZID=America/Denver:20251119T183000
DTSTAMP:20260420T105529
CREATED:20250728T172951Z
LAST-MODIFIED:20250728T172951Z
UID:12181-1763573400-1763577000@www.runwildmissoula.org
SUMMARY:Wednesday Evening Yoga with Missy Adams
DESCRIPTION:
URL:https://www.runwildmissoula.org/event/wednesday-evening-yoga-with-missy-adams-11/
LOCATION:Runner’s Edge\, 304 N Higgins Ave\, Missoula\, MT\, 59802\, United States
ORGANIZER;CN="RWM Programs":MAILTO:sidneys@runwildmissoula.org
END:VEVENT
BEGIN:VEVENT
DTSTART;TZID=America/Denver:20251119T180000
DTEND;TZID=America/Denver:20251119T200000
DTSTAMP:20260420T105529
CREATED:20250329T184258Z
LAST-MODIFIED:20250329T184258Z
UID:11615-1763575200-1763582400@www.runwildmissoula.org
SUMMARY:Last Wednesday Beer Run
DESCRIPTION:“5 Miles to Beer Thirty” – The monthly beer run is a casual fun run/walk open to all runners and all abilities. Each month a 3 and 5 mile route is offered at a different brewery location on the last Wednesday of the month (schedule below)\, and at the end is a social gathering with libations and food. What could be a better way to end the month? \nAll of our beer runs are open to all runners and walkers. Run Wild Missoula membership is not required\, but non members are required to sign a waiver prior to the start. Join Run Wild Missoula. \nGot Questions? Contact Run Wild Missoula’s Chancellor of Libations
URL:https://www.runwildmissoula.org/event/last-wednesday-beer-run-17/
LOCATION:Dram Shop Central\, 2700 Paxson St Ste G\, Missoula\, MT\, 59801\, United States
ORGANIZER;CN="Run Wild Missoula":MAILTO:info@runwildmissoula.org
END:VEVENT
BEGIN:VEVENT
DTSTART;TZID=America/Denver:20251124T121500
DTEND;TZID=America/Denver:20251124T130000
DTSTAMP:20260420T105529
CREATED:20250728T170134Z
LAST-MODIFIED:20250728T170134Z
UID:12155-1763986500-1763989200@www.runwildmissoula.org
SUMMARY:Monday Lunch Yoga with Missy Adams
DESCRIPTION:
URL:https://www.runwildmissoula.org/event/monday-lunch-yoga-with-missy-adams-12/
LOCATION:Runner’s Edge\, 304 N Higgins Ave\, Missoula\, MT\, 59802\, United States
ORGANIZER;CN="RWM Programs":MAILTO:sidneys@runwildmissoula.org
END:VEVENT
BEGIN:VEVENT
DTSTART;TZID=America/Denver:20251126T173000
DTEND;TZID=America/Denver:20251126T183000
DTSTAMP:20260420T105529
CREATED:20250728T173015Z
LAST-MODIFIED:20250728T173015Z
UID:12183-1764178200-1764181800@www.runwildmissoula.org
SUMMARY:Wednesday Evening Yoga with Missy Adams
DESCRIPTION:
URL:https://www.runwildmissoula.org/event/wednesday-evening-yoga-with-missy-adams-12/
LOCATION:Runner’s Edge\, 304 N Higgins Ave\, Missoula\, MT\, 59802\, United States
ORGANIZER;CN="RWM Programs":MAILTO:sidneys@runwildmissoula.org
END:VEVENT
BEGIN:VEVENT
DTSTART;TZID=America/Denver:20251127T093000
DTEND;TZID=America/Denver:20251127T140000
DTSTAMP:20260420T105529
CREATED:20250107T200239Z
LAST-MODIFIED:20250107T200239Z
UID:11248-1764235800-1764252000@www.runwildmissoula.org
SUMMARY:Turkey Day 8K & 3K Family Fun Run
DESCRIPTION:
URL:https://www.runwildmissoula.org/event/turkey-day-8k-3k-family-fun-run/
LOCATION:MT
ORGANIZER;CN="Run Wild Missoula":MAILTO:info@runwildmissoula.org
END:VEVENT
BEGIN:VEVENT
DTSTART;TZID=America/Denver:20251201T121500
DTEND;TZID=America/Denver:20251201T130000
DTSTAMP:20260420T105529
CREATED:20250728T170259Z
LAST-MODIFIED:20250728T170259Z
UID:12157-1764591300-1764594000@www.runwildmissoula.org
SUMMARY:Monday Lunch Yoga with Missy Adams
DESCRIPTION:
URL:https://www.runwildmissoula.org/event/monday-lunch-yoga-with-missy-adams-13/
LOCATION:Runner’s Edge\, 304 N Higgins Ave\, Missoula\, MT\, 59802\, United States
ORGANIZER;CN="RWM Programs":MAILTO:sidneys@runwildmissoula.org
END:VEVENT
BEGIN:VEVENT
DTSTART;TZID=America/Denver:20251203T173000
DTEND;TZID=America/Denver:20251203T183000
DTSTAMP:20260420T105529
CREATED:20250728T173040Z
LAST-MODIFIED:20250728T173040Z
UID:12185-1764783000-1764786600@www.runwildmissoula.org
SUMMARY:Wednesday Evening Yoga with Missy Adams
DESCRIPTION:
URL:https://www.runwildmissoula.org/event/wednesday-evening-yoga-with-missy-adams-13/
LOCATION:Runner’s Edge\, 304 N Higgins Ave\, Missoula\, MT\, 59802\, United States
ORGANIZER;CN="RWM Programs":MAILTO:sidneys@runwildmissoula.org
END:VEVENT
BEGIN:VEVENT
DTSTART;TZID=America/Denver:20251208T121500
DTEND;TZID=America/Denver:20251208T130000
DTSTAMP:20260420T105529
CREATED:20250728T170331Z
LAST-MODIFIED:20250728T170331Z
UID:12159-1765196100-1765198800@www.runwildmissoula.org
SUMMARY:Monday Lunch Yoga with Missy Adams
DESCRIPTION:
URL:https://www.runwildmissoula.org/event/monday-lunch-yoga-with-missy-adams-14/
LOCATION:Runner’s Edge\, 304 N Higgins Ave\, Missoula\, MT\, 59802\, United States
ORGANIZER;CN="RWM Programs":MAILTO:sidneys@runwildmissoula.org
END:VEVENT
BEGIN:VEVENT
DTSTART;TZID=America/Denver:20251210T173000
DTEND;TZID=America/Denver:20251210T183000
DTSTAMP:20260420T105529
CREATED:20250728T173106Z
LAST-MODIFIED:20250728T173106Z
UID:12187-1765387800-1765391400@www.runwildmissoula.org
SUMMARY:Wednesday Evening Yoga with Missy Adams
DESCRIPTION:
URL:https://www.runwildmissoula.org/event/wednesday-evening-yoga-with-missy-adams-14/
LOCATION:Runner’s Edge\, 304 N Higgins Ave\, Missoula\, MT\, 59802\, United States
ORGANIZER;CN="RWM Programs":MAILTO:sidneys@runwildmissoula.org
END:VEVENT
BEGIN:VEVENT
DTSTART;TZID=America/Denver:20251211T180000
DTEND;TZID=America/Denver:20251211T190000
DTSTAMP:20260420T105529
CREATED:20251105T203402Z
LAST-MODIFIED:20251105T203402Z
UID:12566-1765476000-1765479600@www.runwildmissoula.org
SUMMARY:Dry Miles
DESCRIPTION:The Second Thursday of every month at 6 p.m. \nThis group unifies those who are cutting back\, sober-curious\, ten years sober (or anywhere in between!) to share the same love for running and walking within the Missoula community. We aim to foster a welcoming\, social event without alcohol. While we offer a positive\, substance-free environment\, Dry Miles Missoula is not an official recovery or substance treatment program.** \nThis monthly meetup is a casual fun run/walk open to all runners and walkers of all abilities. Each month a 3 and 5 mile route is offered. \nRun Wild Missoula membership is not required\, but encouraged. 
URL:https://www.runwildmissoula.org/event/dry-miles-12/
LOCATION:Pie Hole\, 525 N Higgins Ave\, Missoula\, MT\, 59802\, United States
ORGANIZER;CN="Run Wild Missoula":MAILTO:info@runwildmissoula.org
END:VEVENT
BEGIN:VEVENT
DTSTART;TZID=America/Denver:20251231T180000
DTEND;TZID=America/Denver:20251231T200000
DTSTAMP:20260420T105529
CREATED:20250329T184400Z
LAST-MODIFIED:20250723T161344Z
UID:11617-1767204000-1767211200@www.runwildmissoula.org
SUMMARY:Last Wednesday Beer Run
DESCRIPTION:“5 Miles to Beer Thirty” – The monthly beer run is a casual fun run/walk open to all runners and all abilities. Each month a 3 and 5 mile route is offered at a different brewery location on the last Wednesday of the month (schedule below)\, and at the end is a social gathering with libations and food. What could be a better way to end the month? \nAll of our beer runs are open to all runners and walkers. Run Wild Missoula membership is not required\, but non members are required to sign a waiver prior to the start. Join Run Wild Missoula. \nGot Questions? Contact Run Wild Missoula’s Chancellor of Libations
URL:https://www.runwildmissoula.org/event/last-wednesday-beer-run-18/
LOCATION:Highlander Brewing Co\, 200 International Drive\, Missoula\, MT\, 59808\, United States
ORGANIZER;CN="Run Wild Missoula":MAILTO:info@runwildmissoula.org
END:VEVENT
BEGIN:VEVENT
DTSTART;TZID=America/Denver:20260101T100000
DTEND;TZID=America/Denver:20260101T120000
DTSTAMP:20260420T105529
CREATED:20251204T164612Z
LAST-MODIFIED:20251204T164612Z
UID:12679-1767261600-1767268800@www.runwildmissoula.org
SUMMARY:Resolution Run 5K
DESCRIPTION:Start the year off on the right foot with a $5 Five K! \nRunner’s Edge Events and Run Wild Missoula are excited bring in the the New Year with the 2026 Resolution Run!  \nNot interested in running an in-person event? No problem. Join the Virtual Resolution Run for 2026!  Run a 5k on January 1st\, record your time\, submit your results\, pick up your No-Peek Envelope at Runner’s Edge. \nIn order to maintain the spirit of this event and sustain accessibility\, we will NOT be offering a swag item for the Resolution Run 5K. Instead\, we encourage participants to BYOM (bring your own mug!).
URL:https://www.runwildmissoula.org/event/resolution-run-5k-5/
LOCATION:Pineview Park\, 1010 Pineview Dr.\, Missoula\, Montana\, 59802
ORGANIZER;CN="Run Wild Missoula":MAILTO:info@runwildmissoula.org
END:VEVENT
BEGIN:VEVENT
DTSTART;TZID=America/Denver:20260105T121500
DTEND;TZID=America/Denver:20260105T130000
DTSTAMP:20260420T105529
CREATED:20251203T205938Z
LAST-MODIFIED:20251203T205938Z
UID:12639-1767615300-1767618000@www.runwildmissoula.org
SUMMARY:Monday Lunch Yoga
DESCRIPTION:
URL:https://www.runwildmissoula.org/event/monday-lunch-yoga-50/
LOCATION:Runner’s Edge\, 304 N Higgins Ave\, Missoula\, MT\, 59802\, United States
ORGANIZER;CN="RWM Programs":MAILTO:sidneys@runwildmissoula.org
END:VEVENT
BEGIN:VEVENT
DTSTART;TZID=America/Denver:20260107T173000
DTEND;TZID=America/Denver:20260107T183000
DTSTAMP:20260420T105529
CREATED:20251203T210802Z
LAST-MODIFIED:20251203T210802Z
UID:12663-1767807000-1767810600@www.runwildmissoula.org
SUMMARY:Wednesday Evening Yoga
DESCRIPTION:
URL:https://www.runwildmissoula.org/event/wednesday-evening-yoga-49/
LOCATION:Runner’s Edge\, 304 N Higgins Ave\, Missoula\, MT\, 59802\, United States
ORGANIZER;CN="RWM Programs":MAILTO:sidneys@runwildmissoula.org
END:VEVENT
BEGIN:VEVENT
DTSTART;TZID=America/Denver:20260108T180000
DTEND;TZID=America/Denver:20260108T190000
DTSTAMP:20260420T105529
CREATED:20251204T175149Z
LAST-MODIFIED:20251204T175149Z
UID:12712-1767895200-1767898800@www.runwildmissoula.org
SUMMARY:Dry Miles
DESCRIPTION:The Second Thursday of every month at 6 p.m. \nThis group unifies those who are cutting back\, sober-curious\, ten years sober (or anywhere in between!) to share the same love for running and walking within the Missoula community. We aim to foster a welcoming\, social event without alcohol. While we offer a positive\, substance-free environment\, Dry Miles Missoula is not an official recovery or substance treatment program.** \nThis monthly meetup is a casual fun run/walk open to all runners and walkers of all abilities. Each month a 3 and 5 mile route is offered.
URL:https://www.runwildmissoula.org/event/dry-miles-13/
LOCATION:Pie Hole\, 525 N Higgins Ave\, Missoula\, MT\, 59802\, United States
ORGANIZER;CN="Run Wild Missoula":MAILTO:info@runwildmissoula.org
END:VEVENT
BEGIN:VEVENT
DTSTART;TZID=America/Denver:20260112T121500
DTEND;TZID=America/Denver:20260112T130000
DTSTAMP:20260420T105529
CREATED:20251203T210106Z
LAST-MODIFIED:20251203T210106Z
UID:12641-1768220100-1768222800@www.runwildmissoula.org
SUMMARY:Monday Lunch Yoga
DESCRIPTION:
URL:https://www.runwildmissoula.org/event/monday-lunch-yoga-51/
LOCATION:Runner’s Edge\, 304 N Higgins Ave\, Missoula\, MT\, 59802\, United States
ORGANIZER;CN="RWM Programs":MAILTO:sidneys@runwildmissoula.org
END:VEVENT
BEGIN:VEVENT
DTSTART;TZID=America/Denver:20260114T173000
DTEND;TZID=America/Denver:20260114T183000
DTSTAMP:20260420T105529
CREATED:20251203T211325Z
LAST-MODIFIED:20251203T211325Z
UID:12665-1768411800-1768415400@www.runwildmissoula.org
SUMMARY:Wednesday Evening Yoga
DESCRIPTION:
URL:https://www.runwildmissoula.org/event/wednesday-evening-yoga-50/
LOCATION:Runner’s Edge\, 304 N Higgins Ave\, Missoula\, MT\, 59802\, United States
ORGANIZER;CN="RWM Programs":MAILTO:sidneys@runwildmissoula.org
END:VEVENT
BEGIN:VEVENT
DTSTART;TZID=America/Denver:20260119T121500
DTEND;TZID=America/Denver:20260119T130000
DTSTAMP:20260420T105529
CREATED:20251203T210141Z
LAST-MODIFIED:20251203T210141Z
UID:12643-1768824900-1768827600@www.runwildmissoula.org
SUMMARY:Monday Lunch Yoga
DESCRIPTION:
URL:https://www.runwildmissoula.org/event/monday-lunch-yoga-52/
LOCATION:Runner’s Edge\, 304 N Higgins Ave\, Missoula\, MT\, 59802\, United States
ORGANIZER;CN="RWM Programs":MAILTO:sidneys@runwildmissoula.org
END:VEVENT
BEGIN:VEVENT
DTSTART;TZID=America/Denver:20260121T173000
DTEND;TZID=America/Denver:20260121T183000
DTSTAMP:20260420T105529
CREATED:20251203T214737Z
LAST-MODIFIED:20251203T214737Z
UID:12667-1769016600-1769020200@www.runwildmissoula.org
SUMMARY:Wednesday Evening Yoga
DESCRIPTION:
URL:https://www.runwildmissoula.org/event/wednesday-evening-yoga-51/
LOCATION:Runner’s Edge\, 304 N Higgins Ave\, Missoula\, MT\, 59802\, United States
ORGANIZER;CN="RWM Programs":MAILTO:sidneys@runwildmissoula.org
END:VEVENT
BEGIN:VEVENT
DTSTART;TZID=America/Denver:20260126T121500
DTEND;TZID=America/Denver:20260126T130000
DTSTAMP:20260420T105529
CREATED:20251203T210216Z
LAST-MODIFIED:20251203T210216Z
UID:12645-1769429700-1769432400@www.runwildmissoula.org
SUMMARY:Monday Lunch Yoga
DESCRIPTION:
URL:https://www.runwildmissoula.org/event/monday-lunch-yoga-53/
LOCATION:Runner’s Edge\, 304 N Higgins Ave\, Missoula\, MT\, 59802\, United States
ORGANIZER;CN="RWM Programs":MAILTO:sidneys@runwildmissoula.org
END:VEVENT
BEGIN:VEVENT
DTSTART;TZID=America/Denver:20260128T180000
DTEND;TZID=America/Denver:20260128T193000
DTSTAMP:20260420T105529
CREATED:20251211T221649Z
LAST-MODIFIED:20251211T221649Z
UID:12770-1769623200-1769628600@www.runwildmissoula.org
SUMMARY:January Beer Run & Missoula Marathon Local's Registration Party
DESCRIPTION:What do runners like more than beer and signing up for races? 🍻 An event where you get to drink beer AND sign up for a race with a sweet discount!\n\nThe January Beer Run and Missoula Marathon registration party is next Wednesday at Big Sky Brewing! Join us for this free\, locals only event and receive a $10 discount on your Missoula Marathon or Half Marathon registration\, $5 off your Tony Banovich 5K registration\, plus a raffle\, a free beer courtesy of Run Wild Missoula\, good times\, and more! \n\n	Registration starts at 5:30 PM but continues after the Beer Run.\n	Beer Run starts at 6:00 PM\n	Raffle starts at 7:15 PM – Must be present to win!
URL:https://www.runwildmissoula.org/event/january-beer-run-missoula-marathon-locals-registration-party-2/
LOCATION:Big Sky Brewing\, 5417 Trumpeter Way\, Missoula\, MT\, 59808\, United States
END:VEVENT
BEGIN:VEVENT
DTSTART;TZID=America/Denver:20260201T080000
DTEND;TZID=America/Denver:20260228T233000
DTSTAMP:20260420T105529
CREATED:20251204T164940Z
LAST-MODIFIED:20251204T165018Z
UID:12682-1769932800-1772321400@www.runwildmissoula.org
SUMMARY:GRM Ten Virtual Challenge
DESCRIPTION:Run Wild Missoula is pleased to host a virtual challenge for your winter training motivation or to kick off your Missoula Marathon training! We are offering four different challenges for you to stay motivated and engaged while raising money for a great cause. \nEvery year this challenge takes place during the month of February\, beginning just before National Girls & Women in Sports Day  NGWSP is a celebration and inspires girls and women to play and be active to realize their full power. By age 14\, girls drop out of sports at two times the rate of boys. The confidence\, strength and character gained through sports participation are the very tools girls and women need to become strong leaders in sports and life. \nIn 2025\, Run Wild Missoula was able to donate $3\,000 to the GRM Scholarship Fund and $2\,360 from the GRM Ten Virtual Challenge! 
URL:https://www.runwildmissoula.org/event/grm-ten-virtual-challenge-starts/
LOCATION:MT
END:VEVENT
BEGIN:VEVENT
DTSTART;TZID=America/Denver:20260209T121500
DTEND;TZID=America/Denver:20260209T130000
DTSTAMP:20260420T105529
CREATED:20251203T210255Z
LAST-MODIFIED:20251203T210255Z
UID:12647-1770639300-1770642000@www.runwildmissoula.org
SUMMARY:Monday Lunch Yoga
DESCRIPTION:
URL:https://www.runwildmissoula.org/event/monday-lunch-yoga-54/
LOCATION:Runner’s Edge\, 304 N Higgins Ave\, Missoula\, MT\, 59802\, United States
ORGANIZER;CN="RWM Programs":MAILTO:sidneys@runwildmissoula.org
END:VEVENT
BEGIN:VEVENT
DTSTART;TZID=America/Denver:20260212T180000
DTEND;TZID=America/Denver:20260212T190000
DTSTAMP:20260420T105529
CREATED:20251204T175246Z
LAST-MODIFIED:20251204T175246Z
UID:12714-1770919200-1770922800@www.runwildmissoula.org
SUMMARY:Dry Miles
DESCRIPTION:The Second Thursday of every month at 6 p.m. \nThis group unifies those who are cutting back\, sober-curious\, ten years sober (or anywhere in between!) to share the same love for running and walking within the Missoula community. We aim to foster a welcoming\, social event without alcohol. While we offer a positive\, substance-free environment\, Dry Miles Missoula is not an official recovery or substance treatment program.** \nThis monthly meetup is a casual fun run/walk open to all runners and walkers of all abilities. Each month a 3 and 5 mile route is offered.
URL:https://www.runwildmissoula.org/event/dry-miles-14/
LOCATION:Pie Hole\, 525 N Higgins Ave\, Missoula\, MT\, 59802\, United States
ORGANIZER;CN="Run Wild Missoula":MAILTO:info@runwildmissoula.org
END:VEVENT
BEGIN:VEVENT
DTSTART;TZID=America/Denver:20260214T100000
DTEND;TZID=America/Denver:20260214T123000
DTSTAMP:20260420T105529
CREATED:20251204T165140Z
LAST-MODIFIED:20251204T165140Z
UID:12686-1771063200-1771072200@www.runwildmissoula.org
SUMMARY:Heart Throb 5K
DESCRIPTION:Run Wild Missoula is pleased to bring you the Heart Throb 5K\, 80’s Edition\, fueled by love! This will be a great day to celebrate diversity\, inclusion\, and individual expression of truth. Let’s get together and embrace that LOVE IS LOVE! \nWear anything 80s themed\, rainbow\, or just plain fabulous! From a small accessory or a full head to toe outfit – and you could win a prize for best dressed! Group outfits encouraged!  \nIn 2025 Run Wild Missoula donated $2\,150 to The Center!  The Center is an open\, affirming environment for peoples of all sexual orientations and gender identity expressions. The Center fosters safe\, inclusive\, and welcoming spaces for community members to focus on identity development\, self-care\, empowerment\, leadership development\, and overall wellness. \n 
URL:https://www.runwildmissoula.org/event/heart-throb-5k-4/
LOCATION:Target Range School Gym\, 4095 South Avenue West\, Missoula\, Montana\, 59804
ORGANIZER;CN="Run Wild Missoula":MAILTO:info@runwildmissoula.org
END:VEVENT
BEGIN:VEVENT
DTSTART;TZID=America/Denver:20260216T121500
DTEND;TZID=America/Denver:20260216T130000
DTSTAMP:20260420T105529
CREATED:20251203T210331Z
LAST-MODIFIED:20251203T210331Z
UID:12649-1771244100-1771246800@www.runwildmissoula.org
SUMMARY:Monday Lunch Yoga
DESCRIPTION:
URL:https://www.runwildmissoula.org/event/monday-lunch-yoga-55/
LOCATION:Runner’s Edge\, 304 N Higgins Ave\, Missoula\, MT\, 59802\, United States
ORGANIZER;CN="RWM Programs":MAILTO:sidneys@runwildmissoula.org
END:VEVENT
BEGIN:VEVENT
DTSTART;TZID=America/Denver:20260223T121500
DTEND;TZID=America/Denver:20260223T130000
DTSTAMP:20260420T105529
CREATED:20251203T210410Z
LAST-MODIFIED:20251203T210410Z
UID:12651-1771848900-1771851600@www.runwildmissoula.org
SUMMARY:Monday Lunch Yoga
DESCRIPTION:
URL:https://www.runwildmissoula.org/event/monday-lunch-yoga-56/
LOCATION:Runner’s Edge\, 304 N Higgins Ave\, Missoula\, MT\, 59802\, United States
ORGANIZER;CN="RWM Programs":MAILTO:sidneys@runwildmissoula.org
END:VEVENT
BEGIN:VEVENT
DTSTART;TZID=America/Denver:20260225T180000
DTEND;TZID=America/Denver:20260225T200000
DTSTAMP:20260420T105529
CREATED:20260225T221809Z
LAST-MODIFIED:20260225T221809Z
UID:13036-1772042400-1772049600@www.runwildmissoula.org
SUMMARY:Beer Run
DESCRIPTION:Our February beer run will be at Gild Brewing on the Hip Strip. Known for their opulent IPAs and other fine beer varieties\, Gild has something for everyone\, including wine and a large selection on non-alcoholic beverages. Plus they have an amazing Mexican food menu. \nAn approximate 3 and 5 mile route will be offered. Don’t forget to bring a headlamp and optional traction\, just in case winter finally arrives in Montana. The run is free for members and non-members\, though non members are required to sign a waiver prior to the start. To avoid that\, please consider joining. It’s a great value at only $27/year for an individual membership or just $37/year for families. Join Run Wild Missoula. \nLast Wednesday Beer Run
URL:https://www.runwildmissoula.org/event/beer-run/
LOCATION:MT
END:VEVENT
BEGIN:VEVENT
DTSTART;TZID=America/Denver:20260228T110000
DTEND;TZID=America/Denver:20260228T150000
DTSTAMP:20260420T105529
CREATED:20251204T173233Z
LAST-MODIFIED:20251204T173233Z
UID:12689-1772276400-1772290800@www.runwildmissoula.org
SUMMARY:Snow Joke Half Marathon
DESCRIPTION:Join us in Seeley Lake and challenge yourself to 13.1 blazing fast\, freezing cold miles!  \nMark your calendars for Saturday\, February 28\, 2026 for the 47th edition of this iconic Western Montana Winter Tradition! \nIn 2025 Run Wild Missoula was able to donate $3\,500 to the Seeley Lake Elementary & SL Ski Team\, along with $500 to the Seeley Lake Community Foundation. Thank you for making these donations possible! 
URL:https://www.runwildmissoula.org/event/snow-joke-half-marathon-3/
LOCATION:Seeley Lake Elementary School\, 200 School Lane\, Seeley Lake\, Montana\, 59868
ORGANIZER;CN="Run Wild Missoula":MAILTO:info@runwildmissoula.org
END:VEVENT
END:VCALENDAR