BEGIN:VCALENDAR
VERSION:2.0
PRODID:-//Run Wild Missoula - ECPv6.15.18//NONSGML v1.0//EN
CALSCALE:GREGORIAN
METHOD:PUBLISH
X-WR-CALNAME:Run Wild Missoula
X-ORIGINAL-URL:https://www.runwildmissoula.org
X-WR-CALDESC:Events for Run Wild Missoula
REFRESH-INTERVAL;VALUE=DURATION:PT1H
X-Robots-Tag:noindex
X-PUBLISHED-TTL:PT1H
BEGIN:VTIMEZONE
TZID:America/Denver
BEGIN:DAYLIGHT
TZOFFSETFROM:-0700
TZOFFSETTO:-0600
TZNAME:MDT
DTSTART:20240310T090000
END:DAYLIGHT
BEGIN:STANDARD
TZOFFSETFROM:-0600
TZOFFSETTO:-0700
TZNAME:MST
DTSTART:20241103T080000
END:STANDARD
BEGIN:DAYLIGHT
TZOFFSETFROM:-0700
TZOFFSETTO:-0600
TZNAME:MDT
DTSTART:20250309T090000
END:DAYLIGHT
BEGIN:STANDARD
TZOFFSETFROM:-0600
TZOFFSETTO:-0700
TZNAME:MST
DTSTART:20251102T080000
END:STANDARD
BEGIN:DAYLIGHT
TZOFFSETFROM:-0700
TZOFFSETTO:-0600
TZNAME:MDT
DTSTART:20260308T090000
END:DAYLIGHT
BEGIN:STANDARD
TZOFFSETFROM:-0600
TZOFFSETTO:-0700
TZNAME:MST
DTSTART:20261101T080000
END:STANDARD
END:VTIMEZONE
BEGIN:VEVENT
DTSTART;TZID=America/Denver:20251022T173000
DTEND;TZID=America/Denver:20251022T183000
DTSTAMP:20260419T151035
CREATED:20250728T172810Z
LAST-MODIFIED:20250728T172810Z
UID:12173-1761154200-1761157800@www.runwildmissoula.org
SUMMARY:Wednesday Evening Yoga with Missy Adams
DESCRIPTION:
URL:https://www.runwildmissoula.org/event/wednesday-evening-yoga-with-missy-adams-7/
LOCATION:Runner’s Edge\, 304 N Higgins Ave\, Missoula\, MT\, 59802\, United States
ORGANIZER;CN="RWM Programs":MAILTO:sidneys@runwildmissoula.org
END:VEVENT
BEGIN:VEVENT
DTSTART;TZID=America/Denver:20251020T121500
DTEND;TZID=America/Denver:20251020T130000
DTSTAMP:20260419T151035
CREATED:20250728T162338Z
LAST-MODIFIED:20250728T162338Z
UID:12145-1760962500-1760965200@www.runwildmissoula.org
SUMMARY:Monday Lunch Yoga with Missy Adams
DESCRIPTION:
URL:https://www.runwildmissoula.org/event/monday-lunch-yoga-with-missy-adams-7/
LOCATION:Runner’s Edge\, 304 N Higgins Ave\, Missoula\, MT\, 59802\, United States
ORGANIZER;CN="RWM Programs":MAILTO:sidneys@runwildmissoula.org
END:VEVENT
BEGIN:VEVENT
DTSTART;TZID=America/Denver:20251019T070000
DTEND;TZID=America/Denver:20251019T170000
DTSTAMP:20260419T151035
CREATED:20250107T195620Z
LAST-MODIFIED:20250107T195620Z
UID:11242-1760857200-1760893200@www.runwildmissoula.org
SUMMARY:City to Sky 50K
DESCRIPTION:
URL:https://www.runwildmissoula.org/event/city-to-sky-50k-2/
LOCATION:MT
END:VEVENT
BEGIN:VEVENT
DTSTART;TZID=America/Denver:20251015T173000
DTEND;TZID=America/Denver:20251015T183000
DTSTAMP:20260419T151035
CREATED:20250728T172432Z
LAST-MODIFIED:20250728T172432Z
UID:12171-1760549400-1760553000@www.runwildmissoula.org
SUMMARY:Wednesday Evening Yoga with Missy Adams
DESCRIPTION:
URL:https://www.runwildmissoula.org/event/wednesday-evening-yoga-with-missy-adams-6/
LOCATION:Runner’s Edge\, 304 N Higgins Ave\, Missoula\, MT\, 59802\, United States
ORGANIZER;CN="RWM Programs":MAILTO:sidneys@runwildmissoula.org
END:VEVENT
BEGIN:VEVENT
DTSTART;TZID=America/Denver:20251013T121500
DTEND;TZID=America/Denver:20251013T130000
DTSTAMP:20260419T151035
CREATED:20250728T162306Z
LAST-MODIFIED:20250728T162306Z
UID:12143-1760357700-1760360400@www.runwildmissoula.org
SUMMARY:Monday Lunch Yoga with Missy Adams
DESCRIPTION:
URL:https://www.runwildmissoula.org/event/monday-lunch-yoga-with-missy-adams-6/
LOCATION:Runner’s Edge\, 304 N Higgins Ave\, Missoula\, MT\, 59802\, United States
ORGANIZER;CN="RWM Programs":MAILTO:sidneys@runwildmissoula.org
END:VEVENT
BEGIN:VEVENT
DTSTART;TZID=America/Denver:20251009T180000
DTEND;TZID=America/Denver:20251009T190000
DTSTAMP:20260419T151035
CREATED:20250716T180220Z
LAST-MODIFIED:20250716T180220Z
UID:12089-1760032800-1760036400@www.runwildmissoula.org
SUMMARY:Dry Miles
DESCRIPTION:The Second Thursday of every month at 6 p.m. \nThis group unifies those who are cutting back\, sober-curious\, ten years sober (or anywhere in between!) to share the same love for running and walking within the Missoula community. We aim to foster a welcoming\, social event without alcohol. While we offer a positive\, substance-free environment\, Dry Miles Missoula is not an official recovery or substance treatment program.** \nThis monthly meetup is a casual fun run/walk open to all runners and walkers of all abilities. Each month a 3 and 5 mile route is offered. \nRun Wild Missoula membership is not required\, but encouraged. 
URL:https://www.runwildmissoula.org/event/dry-miles-10/
LOCATION:Dairy Queen on Higgins\, 1735 S Higgins Ave\, Missoula\, MT\, 59802\, United States
END:VEVENT
BEGIN:VEVENT
DTSTART;TZID=America/Denver:20251008T173000
DTEND;TZID=America/Denver:20251008T183000
DTSTAMP:20260419T151035
CREATED:20250728T172357Z
LAST-MODIFIED:20250728T172357Z
UID:12169-1759944600-1759948200@www.runwildmissoula.org
SUMMARY:Wednesday Evening Yoga with Missy Adams
DESCRIPTION:
URL:https://www.runwildmissoula.org/event/wednesday-evening-yoga-with-missy-adams-5/
LOCATION:Runner’s Edge\, 304 N Higgins Ave\, Missoula\, MT\, 59802\, United States
ORGANIZER;CN="RWM Programs":MAILTO:sidneys@runwildmissoula.org
END:VEVENT
BEGIN:VEVENT
DTSTART;TZID=America/Denver:20251006T121500
DTEND;TZID=America/Denver:20251006T130000
DTSTAMP:20260419T151035
CREATED:20250728T162037Z
LAST-MODIFIED:20250728T162037Z
UID:12141-1759752900-1759755600@www.runwildmissoula.org
SUMMARY:Monday Lunch Yoga with Missy Adams
DESCRIPTION:
URL:https://www.runwildmissoula.org/event/monday-lunch-yoga-with-missy-adams-5/
LOCATION:Runner’s Edge\, 304 N Higgins Ave\, Missoula\, MT\, 59802\, United States
ORGANIZER;CN="RWM Programs":MAILTO:sidneys@runwildmissoula.org
END:VEVENT
BEGIN:VEVENT
DTSTART;TZID=America/Denver:20251005T100000
DTEND;TZID=America/Denver:20251005T110000
DTSTAMP:20260419T151035
CREATED:20250329T204818Z
LAST-MODIFIED:20250430T162651Z
UID:11667-1759658400-1759662000@www.runwildmissoula.org
SUMMARY:Rise & Roam
DESCRIPTION:Looking for a way to add a little movement to your month — without the pressure to run or race? Join Run Wild Missoula for Rise & Roam (formerly Hot Walk)\, a relaxed\, stroller- and dog-friendly walk starting from a local coffee shop each month. \nWe’ll sip\, chat\, and head out on a mellow 2-mile walk along Missoula’s trails. Whether you’re showing up solo\, with kiddos\, or walking a furry friend\, this group is all about making space for connection\, movement\, and a feel-good start to your day.
URL:https://www.runwildmissoula.org/event/hot-walk-8/
LOCATION:Basecamp Coffee\, 201 E Main St\, Missoula\, MT\, 59802\, United States
ORGANIZER;CN="Run Wild Missoula":MAILTO:info@runwildmissoula.org
END:VEVENT
BEGIN:VEVENT
DTSTART;TZID=America/Denver:20251001T173000
DTEND;TZID=America/Denver:20251001T180000
DTSTAMP:20260419T151035
CREATED:20250728T172332Z
LAST-MODIFIED:20250728T172332Z
UID:12167-1759339800-1759341600@www.runwildmissoula.org
SUMMARY:Wednesday Evening Yoga with Missy Adams
DESCRIPTION:
URL:https://www.runwildmissoula.org/event/wednesday-evening-yoga-with-missy-adams-4/
LOCATION:Runner’s Edge\, 304 N Higgins Ave\, Missoula\, MT\, 59802\, United States
ORGANIZER;CN="RWM Programs":MAILTO:sidneys@runwildmissoula.org
END:VEVENT
BEGIN:VEVENT
DTSTART;TZID=America/Denver:20250929T121500
DTEND;TZID=America/Denver:20250929T130000
DTSTAMP:20260419T151035
CREATED:20250728T162009Z
LAST-MODIFIED:20250728T162009Z
UID:12139-1759148100-1759150800@www.runwildmissoula.org
SUMMARY:Monday Lunch Yoga with Missy Adams
DESCRIPTION:
URL:https://www.runwildmissoula.org/event/monday-lunch-yoga-with-missy-adams-4/
LOCATION:Runner’s Edge\, 304 N Higgins Ave\, Missoula\, MT\, 59802\, United States
ORGANIZER;CN="RWM Programs":MAILTO:sidneys@runwildmissoula.org
END:VEVENT
BEGIN:VEVENT
DTSTART;TZID=America/Denver:20250928T093000
DTEND;TZID=America/Denver:20250928T120000
DTSTAMP:20260419T151035
CREATED:20250716T175030Z
LAST-MODIFIED:20250716T175030Z
UID:12085-1759051800-1759060800@www.runwildmissoula.org
SUMMARY:Fierce Fab Women's Running Festival
DESCRIPTION:An event to celebrate your fiercest\, most fabulous self! Join us this September in Historical Fort Missoula for an empowering and fun-filled day where you can walk or run as many 1-mile laps as you like within a 2-hour period. \nEnjoy glitter and face painting\, and dance to lively music. Don’t miss out on our raffle with epic prizes\, a mimosa bar to toast your achievements\, and awards for the fiercest and most fabulous outfits. It’s an event you won’t want to miss – come celebrate strength\, community\, and fabulousness!
URL:https://www.runwildmissoula.org/event/fierce-fab-womens-running-festival/
LOCATION:Historical Museum at Fort Missoula\, 3400 Capt Rawn Way\, Missoula\, MT\, 59804\, United States
ORGANIZER;CN="Run Wild Missoula":MAILTO:info@runwildmissoula.org
END:VEVENT
BEGIN:VEVENT
DTSTART;TZID=America/Denver:20250925T180000
DTEND;TZID=America/Denver:20250925T190000
DTSTAMP:20260419T151035
CREATED:20250821T221019Z
LAST-MODIFIED:20250821T221019Z
UID:12291-1758823200-1758826800@www.runwildmissoula.org
SUMMARY:Run Wild Readers
DESCRIPTION:
URL:https://www.runwildmissoula.org/event/run-wild-readers-4/
LOCATION:125 E Main St\, 125 E Main St\, Missoula\, MT\, 59802\, United States
ORGANIZER;CN="RWM Programs":MAILTO:sidneys@runwildmissoula.org
END:VEVENT
BEGIN:VEVENT
DTSTART;TZID=America/Denver:20250924T180000
DTEND;TZID=America/Denver:20250924T200000
DTSTAMP:20260419T151035
CREATED:20250329T183954Z
LAST-MODIFIED:20250329T183954Z
UID:11611-1758736800-1758744000@www.runwildmissoula.org
SUMMARY:Last Wednesday Beer Run
DESCRIPTION:“5 Miles to Beer Thirty” – The monthly beer run is a casual fun run/walk open to all runners and all abilities. Each month a 3 and 5 mile route is offered at a different brewery location on the last Wednesday of the month (schedule below)\, and at the end is a social gathering with libations and food. What could be a better way to end the month? \nAll of our beer runs are open to all runners and walkers. Run Wild Missoula membership is not required\, but non members are required to sign a waiver prior to the start. Join Run Wild Missoula. \nGot Questions? Contact Run Wild Missoula’s Chancellor of Libations
URL:https://www.runwildmissoula.org/event/last-wednesday-beer-run-15/
LOCATION:kettlehouse southside\, 602 Myrtle St\, Missoula\, MT\, 59801\, United States
ORGANIZER;CN="Run Wild Missoula":MAILTO:info@runwildmissoula.org
END:VEVENT
BEGIN:VEVENT
DTSTART;TZID=America/Denver:20250924T173000
DTEND;TZID=America/Denver:20250924T180000
DTSTAMP:20260419T151035
CREATED:20250728T172303Z
LAST-MODIFIED:20250728T172303Z
UID:12165-1758735000-1758736800@www.runwildmissoula.org
SUMMARY:Wednesday Evening Yoga with Missy Adams
DESCRIPTION:
URL:https://www.runwildmissoula.org/event/wednesday-evening-yoga-with-missy-adams-3/
LOCATION:Runner’s Edge\, 304 N Higgins Ave\, Missoula\, MT\, 59802\, United States
ORGANIZER;CN="RWM Programs":MAILTO:sidneys@runwildmissoula.org
END:VEVENT
BEGIN:VEVENT
DTSTART;TZID=America/Denver:20250922T121500
DTEND;TZID=America/Denver:20250922T130000
DTSTAMP:20260419T151035
CREATED:20250728T161938Z
LAST-MODIFIED:20250728T161938Z
UID:12137-1758543300-1758546000@www.runwildmissoula.org
SUMMARY:Monday Lunch Yoga with Missy Adams
DESCRIPTION:
URL:https://www.runwildmissoula.org/event/monday-lunch-yoga-with-missy-adams-3/
LOCATION:Runner’s Edge\, 304 N Higgins Ave\, Missoula\, MT\, 59802\, United States
ORGANIZER;CN="RWM Programs":MAILTO:sidneys@runwildmissoula.org
END:VEVENT
BEGIN:VEVENT
DTSTART;TZID=America/Denver:20250921T100000
DTEND;TZID=America/Denver:20250921T233000
DTSTAMP:20260419T151035
CREATED:20250826T204818Z
LAST-MODIFIED:20250826T204818Z
UID:12302-1758448800-1758497400@www.runwildmissoula.org
SUMMARY:Art on the Run
DESCRIPTION:Join us for a free\, art-filled scavenger hunt run starting at the RWM office downtown! You’ll hit 6–8 public art locations over a ~5-mile route\, with surprises at every stop\, a collaborative art project at the finish\, and a chance to take home a one-of-a-kind medal-as-art — all in support of ARTS Missoula.\nYou can meet us in person on Sunday\, September 21 or participate on your own beginning September 22! \n\n\nGOOD NEWS! Art on the Run will count toward your 2025 Racemakers count. 
URL:https://www.runwildmissoula.org/event/art-on-the-run/
LOCATION:125 E Main St\, 125 E Main St\, Missoula\, MT\, 59802\, United States
END:VEVENT
BEGIN:VEVENT
DTSTART;TZID=America/Denver:20250918T173000
DTEND;TZID=America/Denver:20250918T203000
DTSTAMP:20260419T151035
CREATED:20250812T213659Z
LAST-MODIFIED:20250815T160321Z
UID:12244-1758216600-1758227400@www.runwildmissoula.org
SUMMARY:Annual Members Meeting
DESCRIPTION:Join Run Wild Missoula for the 2025 Annual Members Meeting!\nDon’t miss your chance to participate in a FREE group run\, enjoy a FREE dinner\, and the chance to find out directly from the Run Wild Missoula Board of Directors what the club has been up to and plans for the future!  \nStart your evening with a 2 or 4-mile run/walk from the Caras Park Pavilion (123 Carousel Dr\, Missoula MT 59802) at 5:30 PM. We’ll then treat you to dinner before we begin our Annual Members Meeting at 6:30 PM. \nCome find out what your club has been up to this past year and see what’s in the works for 2026! The Run Wild Missoula Board of Directors will give a report\, acknowledge exceptional volunteers\, and ask for your input.  As always\, there will be time to socialize with running and walking friends.
URL:https://www.runwildmissoula.org/event/annual-members-meeting-2/
LOCATION:Caras Park\, 123 Carousel Dr\, Missoula\, MT\, 59807\, United States
END:VEVENT
BEGIN:VEVENT
DTSTART;TZID=America/Denver:20250917T173000
DTEND;TZID=America/Denver:20250917T183000
DTSTAMP:20260419T151035
CREATED:20250728T172232Z
LAST-MODIFIED:20250728T172232Z
UID:12163-1758130200-1758133800@www.runwildmissoula.org
SUMMARY:Wednesday Evening Yoga with Missy Adams
DESCRIPTION:
URL:https://www.runwildmissoula.org/event/wednesday-evening-yoga-with-missy-adams-2/
LOCATION:Runner’s Edge\, 304 N Higgins Ave\, Missoula\, MT\, 59802\, United States
ORGANIZER;CN="RWM Programs":MAILTO:sidneys@runwildmissoula.org
END:VEVENT
BEGIN:VEVENT
DTSTART;TZID=America/Denver:20250916T070000
DTEND;TZID=America/Denver:20250916T080000
DTSTAMP:20260419T151035
CREATED:20250915T194115Z
LAST-MODIFIED:20250915T194115Z
UID:12367-1758006000-1758009600@www.runwildmissoula.org
SUMMARY:RWM x FVLT Tales from the Trails
DESCRIPTION:Your favorite trails and open spaces didn’t just happen by accident. Join Run Wild Missoula and Five Valleys Land Trust for a unique trail run series: Tales from the Trails. \nLearn the story\, history (and maybe even a few secrets) about how some of your favorite Missoula trails and open spaces came to be from a FVLT representative while guided on a RWM-led group trail run.  \nLearn more and register HERE \n\nThe first run will take place on the NEW trails on the Republic Services-Five Valleys Land Trust conservation easement in the North Hills on Sept 16th! Can’t make it? No worries! More runs at other locations around Missoula will be coming in October and January! \n*Run Wild Missoula Membership required for participation*
URL:https://www.runwildmissoula.org/event/rwm-x-fvlt-tales-from-the-trails/
LOCATION:Bluebird Preserve Trailhead\, Bluebird Preserve Trailhead\, Missoula\, MT\, 59808\, United States
ORGANIZER;CN="RWM Programs":MAILTO:sidneys@runwildmissoula.org
END:VEVENT
BEGIN:VEVENT
DTSTART;TZID=America/Denver:20250915T121500
DTEND;TZID=America/Denver:20250915T130000
DTSTAMP:20260419T151035
CREATED:20250728T161309Z
LAST-MODIFIED:20250728T161309Z
UID:12135-1757938500-1757941200@www.runwildmissoula.org
SUMMARY:Monday Lunch Yoga with Missy Adams
DESCRIPTION:
URL:https://www.runwildmissoula.org/event/monday-lunch-yoga-with-missy-adams-2/
LOCATION:Runner’s Edge\, 304 N Higgins Ave\, Missoula\, MT\, 59802\, United States
ORGANIZER;CN="RWM Programs":MAILTO:sidneys@runwildmissoula.org
END:VEVENT
BEGIN:VEVENT
DTSTART;TZID=America/Denver:20250911T180000
DTEND;TZID=America/Denver:20250911T190000
DTSTAMP:20260419T151035
CREATED:20250513T184933Z
LAST-MODIFIED:20250513T184933Z
UID:11880-1757613600-1757617200@www.runwildmissoula.org
SUMMARY:Dry Miles
DESCRIPTION:The Second Thursday of every month at 6 p.m. \nThis group unifies those who are cutting back\, sober-curious\, ten years sober (or anywhere in between!) to share the same love for running and walking within the Missoula community. We aim to foster a welcoming\, social event without alcohol. While we offer a positive\, substance-free environment\, Dry Miles Missoula is not an official recovery or substance treatment program.** \nThis monthly meetup is a casual fun run/walk open to all runners and walkers of all abilities. Each month a 3 and 5 mile route is offered.
URL:https://www.runwildmissoula.org/event/dry-miles-9/
LOCATION:Dairy Queen on Higgins\, 1735 S Higgins Ave\, Missoula\, MT\, 59802\, United States
ORGANIZER;CN="Run Wild Missoula":MAILTO:info@runwildmissoula.org
END:VEVENT
BEGIN:VEVENT
DTSTART;TZID=America/Denver:20250910T173000
DTEND;TZID=America/Denver:20250910T183000
DTSTAMP:20260419T151035
CREATED:20250728T170407Z
LAST-MODIFIED:20250728T170407Z
UID:12161-1757525400-1757529000@www.runwildmissoula.org
SUMMARY:Wednesday Evening Yoga with Missy Adams
DESCRIPTION:
URL:https://www.runwildmissoula.org/event/wednesday-evening-yoga-with-missy-adams/
LOCATION:Runner’s Edge\, 304 N Higgins Ave\, Missoula\, MT\, 59802\, United States
ORGANIZER;CN="RWM Programs":MAILTO:sidneys@runwildmissoula.org
END:VEVENT
BEGIN:VEVENT
DTSTART;TZID=America/Denver:20250908T121500
DTEND;TZID=America/Denver:20250908T130000
DTSTAMP:20260419T151035
CREATED:20250728T161216Z
LAST-MODIFIED:20250728T161216Z
UID:12133-1757333700-1757336400@www.runwildmissoula.org
SUMMARY:Monday Lunch Yoga with Missy Adams
DESCRIPTION:
URL:https://www.runwildmissoula.org/event/monday-lunch-yoga-with-missy-adams/
LOCATION:Runner’s Edge\, 304 N Higgins Ave\, Missoula\, MT\, 59802\, United States
ORGANIZER;CN="RWM Programs":MAILTO:sidneys@runwildmissoula.org
END:VEVENT
BEGIN:VEVENT
DTSTART;TZID=America/Denver:20250907T100000
DTEND;TZID=America/Denver:20250907T110000
DTSTAMP:20260419T151035
CREATED:20250329T204734Z
LAST-MODIFIED:20250430T162531Z
UID:11665-1757239200-1757242800@www.runwildmissoula.org
SUMMARY:Rise & Roam
DESCRIPTION:Looking for a way to add a little movement to your month — without the pressure to run or race? Join Run Wild Missoula for Rise & Roam (formerly Hot Walk)\, a relaxed\, stroller- and dog-friendly walk starting from a local coffee shop each month. \nWe’ll sip\, chat\, and head out on a mellow 2-mile walk along Missoula’s trails. Whether you’re showing up solo\, with kiddos\, or walking a furry friend\, this group is all about making space for connection\, movement\, and a feel-good start to your day.
URL:https://www.runwildmissoula.org/event/hot-walk-7/
LOCATION:Basecamp Coffee\, 201 E Main St\, Missoula\, MT\, 59802\, United States
ORGANIZER;CN="Run Wild Missoula":MAILTO:info@runwildmissoula.org
END:VEVENT
BEGIN:VEVENT
DTSTART;TZID=America/Denver:20250827T180000
DTEND;TZID=America/Denver:20250827T190000
DTSTAMP:20260419T151035
CREATED:20250329T183846Z
LAST-MODIFIED:20250723T161836Z
UID:11609-1756317600-1756321200@www.runwildmissoula.org
SUMMARY:Last Wednesday Beer Run
DESCRIPTION:“5 Miles to Beer Thirty” – The monthly beer run is a casual fun run/walk open to all runners and all abilities. Each month a 3 and 5 mile route is offered at a different brewery location on the last Wednesday of the month (schedule below)\, and at the end is a social gathering with libations and food. What could be a better way to end the month? \nAll of our beer runs are open to all runners and walkers. Run Wild Missoula membership is not required\, but non members are required to sign a waiver prior to the start. Join Run Wild Missoula. \nGot Questions? Contact Run Wild Missoula’s Chancellor of Libations
URL:https://www.runwildmissoula.org/event/last-wednesday-beer-run-14/
LOCATION:Lolo Peak Brewery\, 6201 Brewery Way\, Lolo\, MT\, 59847\, United States
ORGANIZER;CN="Run Wild Missoula":MAILTO:info@runwildmissoula.org
END:VEVENT
BEGIN:VEVENT
DTSTART;TZID=America/Denver:20250823T083000
DTEND;TZID=America/Denver:20250823T103000
DTSTAMP:20260419T151035
CREATED:20250716T174652Z
LAST-MODIFIED:20250716T174652Z
UID:12083-1755937800-1755945000@www.runwildmissoula.org
SUMMARY:4 Mile Roots Run
DESCRIPTION:  \n\nRiver City Roots 4 Mile Run is brought to you by Run Wild Missoula\, in partnership with Missoula Downtown Foundation. A 4-mile fun run in association with the River City Roots Festival. This 4-mile run pays tribute to the city’s love of recreation and staying active. All ages\, abilities and backgrounds are encouraged to enjoy a morning run or walk before the festival in the afternoon and evening! \n 
URL:https://www.runwildmissoula.org/event/4-mile-roots-run/
LOCATION:125 E Main St\, 125 E Main St\, Missoula\, MT\, 59802\, United States
ORGANIZER;CN="Run Wild Missoula":MAILTO:info@runwildmissoula.org
END:VEVENT
BEGIN:VEVENT
DTSTART;TZID=America/Denver:20250821T180000
DTEND;TZID=America/Denver:20250821T200000
DTSTAMP:20260419T151035
CREATED:20250731T191540Z
LAST-MODIFIED:20250731T191540Z
UID:12218-1755799200-1755806400@www.runwildmissoula.org
SUMMARY:Missoula Marathon Volunteer Appreciation Party
DESCRIPTION:Thank you from the bottom of our hearts to everyone who volunteered with us during the Missoula Marathon Weekend of Events! Please mark your calendars for Thursday\, August 21 at 6:00 PM out at Big Sky Brewing for our Missoula Marathon Volunteer Appreciation Party! With free dinner\, drinks\, and a raffle\, you won’t want to miss this! Dinner options will include vegan/vegetarian and gluten free.
URL:https://www.runwildmissoula.org/event/missoula-marathon-volunteer-appreciation-party/
LOCATION:Big Sky Brewing\, 5417 Trumpeter Way\, Missoula\, MT\, 59808\, United States
ORGANIZER;CN="Run Wild Missoula":MAILTO:info@runwildmissoula.org
END:VEVENT
BEGIN:VEVENT
DTSTART;TZID=America/Denver:20250814T180000
DTEND;TZID=America/Denver:20250814T190000
DTSTAMP:20260419T151035
CREATED:20250513T184847Z
LAST-MODIFIED:20250723T161751Z
UID:11878-1755194400-1755198000@www.runwildmissoula.org
SUMMARY:Dry Miles
DESCRIPTION:The Second Thursday of every month at 6 p.m. \nThis group unifies those who are cutting back\, sober-curious\, ten years sober (or anywhere in between!) to share the same love for running and walking within the Missoula community. We aim to foster a welcoming\, social event without alcohol. While we offer a positive\, substance-free environment\, Dry Miles Missoula is not an official recovery or substance treatment program.** \nThis monthly meetup is a casual fun run/walk open to all runners and walkers of all abilities. Each month a 3 and 5 mile route is offered.
URL:https://www.runwildmissoula.org/event/dry-miles-8/
LOCATION:Dairy Queen on Higgins\, 1735 S Higgins Ave\, Missoula\, MT\, 59802\, United States
ORGANIZER;CN="Run Wild Missoula":MAILTO:info@runwildmissoula.org
END:VEVENT
BEGIN:VEVENT
DTSTART;TZID=America/Denver:20250803T100000
DTEND;TZID=America/Denver:20250803T110000
DTSTAMP:20260419T151035
CREATED:20250329T204348Z
LAST-MODIFIED:20250430T162448Z
UID:11661-1754215200-1754218800@www.runwildmissoula.org
SUMMARY:Rise & Roam
DESCRIPTION:Looking for a way to add a little movement to your month — without the pressure to run or race? Join Run Wild Missoula for Rise & Roam (formerly Hot Walk)\, a relaxed\, stroller- and dog-friendly walk starting from a local coffee shop each month. \nWe’ll sip\, chat\, and head out on a mellow 2-mile walk along Missoula’s trails. Whether you’re showing up solo\, with kiddos\, or walking a furry friend\, this group is all about making space for connection\, movement\, and a feel-good start to your day.
URL:https://www.runwildmissoula.org/event/hot-walk-5/
LOCATION:Basecamp Coffee\, 201 E Main St\, Missoula\, MT\, 59802\, United States
ORGANIZER;CN="Run Wild Missoula":MAILTO:info@runwildmissoula.org
END:VEVENT
END:VCALENDAR