BEGIN:VCALENDAR
VERSION:2.0
PRODID:-//Run Wild Missoula - ECPv6.15.20//NONSGML v1.0//EN
CALSCALE:GREGORIAN
METHOD:PUBLISH
X-WR-CALNAME:Run Wild Missoula
X-ORIGINAL-URL:https://www.runwildmissoula.org
X-WR-CALDESC:Events for Run Wild Missoula
REFRESH-INTERVAL;VALUE=DURATION:PT1H
X-Robots-Tag:noindex
X-PUBLISHED-TTL:PT1H
BEGIN:VTIMEZONE
TZID:America/Denver
BEGIN:DAYLIGHT
TZOFFSETFROM:-0700
TZOFFSETTO:-0600
TZNAME:MDT
DTSTART:20200308T090000
END:DAYLIGHT
BEGIN:STANDARD
TZOFFSETFROM:-0600
TZOFFSETTO:-0700
TZNAME:MST
DTSTART:20201101T080000
END:STANDARD
BEGIN:DAYLIGHT
TZOFFSETFROM:-0700
TZOFFSETTO:-0600
TZNAME:MDT
DTSTART:20210314T090000
END:DAYLIGHT
BEGIN:STANDARD
TZOFFSETFROM:-0600
TZOFFSETTO:-0700
TZNAME:MST
DTSTART:20211107T080000
END:STANDARD
BEGIN:DAYLIGHT
TZOFFSETFROM:-0700
TZOFFSETTO:-0600
TZNAME:MDT
DTSTART:20220313T090000
END:DAYLIGHT
BEGIN:STANDARD
TZOFFSETFROM:-0600
TZOFFSETTO:-0700
TZNAME:MST
DTSTART:20221106T080000
END:STANDARD
END:VTIMEZONE
BEGIN:VEVENT
DTSTART;TZID=America/Denver:20211229T180000
DTEND;TZID=America/Denver:20211229T200000
DTSTAMP:20260421T190658
CREATED:20211019T025424Z
LAST-MODIFIED:20211110T181509Z
UID:4245-1640800800-1640808000@www.runwildmissoula.org
SUMMARY:Last Wednesday Beer Run - December
DESCRIPTION:Wednesday\, December 29th\, Dram Shop Central\, 6PM\n\n\nOur beer runs are open to everyone – Run Wild Missoula membership is not required. As outlined in our “Rules of the Run\,” for safety reasons\, we ask that dogs are not present during the Beer Run.\n\n\n Learn more here
URL:https://www.runwildmissoula.org/event/last-wednesday-beer-run-december/
LOCATION:MT
ATTACH;FMTTYPE=image/png:https://www.runwildmissoula.org/wp-content/uploads/2021/10/RWM-no-hero.png
END:VEVENT
BEGIN:VEVENT
DTSTART;TZID=America/Denver:20211219T180000
DTEND;TZID=America/Denver:20211219T200000
DTSTAMP:20260421T190658
CREATED:20211204T035452Z
LAST-MODIFIED:20211204T035452Z
UID:4770-1639936800-1639944000@www.runwildmissoula.org
SUMMARY:December BOP Social: Holiday Lights
DESCRIPTION:Meet at the Bonner Park picnic shelter near the corner of Hastings and Ronald Avenues in the University neighborhood.\n\nRun or walk a neighborhood loop designed to see holiday decorations. A map will be provided.\n\nGather back at the shelter for hot cocoa and cookies.\n\nWear layers for warmth. Add festive lights\, reflective clothing\, and headlamps to see and be seen. Consider traction (cleats or screw shoes) if conditions are icy.\n\nMany thanks to Ellen Leahy for organizing this popular event over countless years.
URL:https://www.runwildmissoula.org/event/december-bop-social-holiday-lights/
LOCATION:Bonner Park\, 1600 Ronald Ave\, Missoula\, MT\, 59801\, United States
ORGANIZER;CN="Run Wild Missoula":MAILTO:info@runwildmissoula.org
END:VEVENT
BEGIN:VEVENT
DTSTART;TZID=America/Denver:20211211T110000
DTEND;TZID=America/Denver:20211211T140000
DTSTAMP:20260421T190658
CREATED:20210826T023446Z
LAST-MODIFIED:20211110T175250Z
UID:75-1639220400-1639231200@www.runwildmissoula.org
SUMMARY:The Tony Banovich Roads\, Tracks and Trails Memorial Run
DESCRIPTION:The Montana running community has waited more than a year to celebrate Tony’s life and legacy together in person. Run Wild Missoula is pleased to announce that the Tony Banovich Memorial Run will take place on Saturday\, December 11th at the Missoula County Fairgrounds at 11:00 AM.\n\n \n\nThe course will include a little roads\, tracks\, and trails in and around Playfair Park. Post run\, participants are invited to gather inside the with Diet Pepsi and Swedish Fish (Tony’s favorite) in remembrance of him. Members of the Banovich family will be in attendance.\n\n \n\nAfter this year’s in-person event\, The Tony’s Banovich Road\, Tracks\, & Trails Memorial Run will move to an annual virtual only event. The virtual event will continue to raise funds for the Tony Banovich Memorial Fund.\n\nFor more details\, click here.
URL:https://www.runwildmissoula.org/event/event-1/
LOCATION:Missoula County Fairgrounds\, Missoula\, Montana\, 59802
CATEGORIES:Race
ATTACH;FMTTYPE=image/jpeg:https://www.runwildmissoula.org/wp-content/uploads/2021/09/TB-Banner.jpg
END:VEVENT
BEGIN:VEVENT
DTSTART;TZID=America/Denver:20211121T140000
DTEND;TZID=America/Denver:20211121T170000
DTSTAMP:20260421T190658
CREATED:20211019T043648Z
LAST-MODIFIED:20211110T180826Z
UID:4249-1637503200-1637514000@www.runwildmissoula.org
SUMMARY:November BOP Social
DESCRIPTION:November BOP Social\n\n\nSunday\, November 21st at 2:00 PM\nGrant Creek (meet at the park & ride parking lot next to the town pump gas station)\n\n\n\nPlease meet us at Grant Creek for a run\, walk\, or run- walk 2-4 miles. There will be no formal social gathering afterward\, however\, Mackenzie River Pizza North is a nearby option for those who want a bite to eat.\n\n\n Learn more here
URL:https://www.runwildmissoula.org/event/november-bop-social/
LOCATION:MT
ATTACH;FMTTYPE=image/png:https://www.runwildmissoula.org/wp-content/uploads/2021/10/RWM-no-hero.png
END:VEVENT
BEGIN:VEVENT
DTSTART;TZID=America/Denver:20211117T180000
DTEND;TZID=America/Denver:20211117T200000
DTSTAMP:20260421T190658
CREATED:20211019T025259Z
LAST-MODIFIED:20211110T181530Z
UID:4244-1637172000-1637179200@www.runwildmissoula.org
SUMMARY:Last Wednesday Beer Run - November
DESCRIPTION:Wednesday\, November 17th\, Double Front Chicken\, 6PM\n\n\n \n\nOur beer runs are open to everyone – Run Wild Missoula membership is not required. As outlined in our “Rules of the Run\,” for safety reasons\, we ask that dogs are not present during the Beer Run.\n\n\n Learn more here
URL:https://www.runwildmissoula.org/event/last-wednesday-beer-run-november/
LOCATION:MT
CATEGORIES:Recurring
ATTACH;FMTTYPE=image/png:https://www.runwildmissoula.org/wp-content/uploads/2021/10/RWM-no-hero.png
END:VEVENT
BEGIN:VEVENT
DTSTART;TZID=America/Denver:20211104T080000
DTEND;TZID=America/Denver:20211104T170000
DTSTAMP:20260421T190658
CREATED:20210826T023822Z
LAST-MODIFIED:20211110T181558Z
UID:78-1636012800-1636045200@www.runwildmissoula.org
SUMMARY:Turkey Day 8K & 3K Family Fun Run
DESCRIPTION:Start your Thanksgiving Day with fresh air and exercise and join us on Thursday\, November 25th for our turkey trot! The Turkey Day 8K and 3K Family Fun Run courses travel along Ron’s Riverfront Trail and the Milwaukee Trail\, with short distances on a few Missoula city streets.\n\n\n\nFor more details and to register\, click here.\n\n 
URL:https://www.runwildmissoula.org/event/event-2/
LOCATION:MT
CATEGORIES:Race
END:VEVENT
BEGIN:VEVENT
DTSTART;TZID=America/Denver:20211031T083000
DTEND;TZID=America/Denver:20211031T173000
DTSTAMP:20260421T190658
CREATED:20211019T042513Z
LAST-MODIFIED:20211110T181611Z
UID:4247-1635669000-1635701400@www.runwildmissoula.org
SUMMARY:Montana Cup
DESCRIPTION:We’re looking for runners to make Missoula proud at the 2021 Montana Cup. And\, we’ll provide for an easy way to travel to and from Butte to compete as part of Team Missoula. Run Wild Missoula will once again coordinate group transportation to this classic Montana event.\n\n\nThe 2021 Montana Cup race will take place in Butte; and\, Missoula is looking to bring back at least several team trophies. Ride with your teammates and let’s show the rest of the state how proud we are to wear the Missoula Maroon jerseys!!\n\n\nFor details and to register\, click here.
URL:https://www.runwildmissoula.org/event/montana-cup/
LOCATION:MT
ATTACH;FMTTYPE=image/png:https://www.runwildmissoula.org/wp-content/uploads/2021/10/RWM-no-hero.png
END:VEVENT
BEGIN:VEVENT
DTSTART;TZID=America/Denver:20211027T180000
DTEND;TZID=America/Denver:20211027T200000
DTSTAMP:20260421T190658
CREATED:20211019T024955Z
LAST-MODIFIED:20211110T181624Z
UID:4243-1635357600-1635364800@www.runwildmissoula.org
SUMMARY:Last Wednesday Beer Run -  October
DESCRIPTION:Wednesday\, October 27th\,  Bayern Brewing\, 6PM\n\n\n\nOur beer runs are open to everyone – Run Wild Missoula membership is not required. As outlined in our “Rules of the Run\,” for safety reasons\, we ask that dogs are not present during the Beer Run.\n\n\n Learn more here
URL:https://www.runwildmissoula.org/event/last-wednesday-beer-run-october/
LOCATION:MT
CATEGORIES:Recurring
ATTACH;FMTTYPE=image/png:https://www.runwildmissoula.org/wp-content/uploads/2021/10/RWM-no-hero.png
END:VEVENT
BEGIN:VEVENT
DTSTART;TZID=America/Denver:20211024T100000
DTEND;TZID=America/Denver:20211024T120000
DTSTAMP:20260421T190658
CREATED:20210826T200629Z
LAST-MODIFIED:20211110T181635Z
UID:82-1635069600-1635076800@www.runwildmissoula.org
SUMMARY:Skeleton Skedaddle 5K & Kids Pumpkin Plod
DESCRIPTION:Enjoy fall family fun with Run Wild Missoula and UM’s Physical Therapy Student Association at the Skeleton Skedaddle 5K & Kids Pumpkin Plod! Join us at Silver Park on Sunday\, October 24th.\n\n\nFor details and to register\, click here.
URL:https://www.runwildmissoula.org/event/recurring-event-2/
LOCATION:Silver Park\, Silver Park\, Missoula\, Montana\, 59802
CATEGORIES:Race
ATTACH;FMTTYPE=image/png:https://www.runwildmissoula.org/wp-content/uploads/2021/09/SS-KPR744-x-240-px-1.png
END:VEVENT
BEGIN:VEVENT
DTSTART;TZID=America/Denver:20211017T140000
DTEND;TZID=America/Denver:20211017T170000
DTSTAMP:20260421T190658
CREATED:20211018T215536Z
LAST-MODIFIED:20211110T181646Z
UID:4240-1634479200-1634490000@www.runwildmissoula.org
SUMMARY:October BOP Social
DESCRIPTION:Sunday\, October 17th at 2:00 PM\nMaclay Flats (convene in the parking lot)\n\n\n\nPlease meet us at Maclay Flats for a  run\, walk\, or run-walk 2-4 miles. Reconvene for potluck picnic and social sharing in the parking lot after.   Bring a snack to share.\n\n\n Learn more here
URL:https://www.runwildmissoula.org/event/october-bop-social/
LOCATION:Maclay Flats\, Forest Rd 19155\, Missoula\, MT\, 59804\, United States
CATEGORIES:Recurring
ATTACH;FMTTYPE=image/png:https://www.runwildmissoula.org/wp-content/uploads/2021/10/RWM-no-hero.png
END:VEVENT
END:VCALENDAR