BEGIN:VCALENDAR
VERSION:2.0
PRODID:-//Run Wild Missoula - ECPv6.15.18//NONSGML v1.0//EN
CALSCALE:GREGORIAN
METHOD:PUBLISH
X-WR-CALNAME:Run Wild Missoula
X-ORIGINAL-URL:https://www.runwildmissoula.org
X-WR-CALDESC:Events for Run Wild Missoula
REFRESH-INTERVAL;VALUE=DURATION:PT1H
X-Robots-Tag:noindex
X-PUBLISHED-TTL:PT1H
BEGIN:VTIMEZONE
TZID:America/Denver
BEGIN:DAYLIGHT
TZOFFSETFROM:-0700
TZOFFSETTO:-0600
TZNAME:MDT
DTSTART:20250309T090000
END:DAYLIGHT
BEGIN:STANDARD
TZOFFSETFROM:-0600
TZOFFSETTO:-0700
TZNAME:MST
DTSTART:20251102T080000
END:STANDARD
BEGIN:DAYLIGHT
TZOFFSETFROM:-0700
TZOFFSETTO:-0600
TZNAME:MDT
DTSTART:20260308T090000
END:DAYLIGHT
BEGIN:STANDARD
TZOFFSETFROM:-0600
TZOFFSETTO:-0700
TZNAME:MST
DTSTART:20261101T080000
END:STANDARD
BEGIN:DAYLIGHT
TZOFFSETFROM:-0700
TZOFFSETTO:-0600
TZNAME:MDT
DTSTART:20270314T090000
END:DAYLIGHT
BEGIN:STANDARD
TZOFFSETFROM:-0600
TZOFFSETTO:-0700
TZNAME:MST
DTSTART:20271107T080000
END:STANDARD
END:VTIMEZONE
BEGIN:VEVENT
DTSTART;TZID=America/Denver:20260826T180000
DTEND;TZID=America/Denver:20260826T200000
DTSTAMP:20260419T183104
CREATED:20260309T191324Z
LAST-MODIFIED:20260309T191324Z
UID:13116-1787767200-1787774400@www.runwildmissoula.org
SUMMARY:Beer Run
DESCRIPTION:
URL:https://www.runwildmissoula.org/event/beer-run-7/
LOCATION:Highlander Brewing Co\, 200 International Drive\, Missoula\, MT\, 59808\, United States
END:VEVENT
BEGIN:VEVENT
DTSTART;TZID=America/Denver:20260910T180000
DTEND;TZID=America/Denver:20260910T190000
DTSTAMP:20260419T183104
CREATED:20260417T201600Z
LAST-MODIFIED:20260417T201600Z
UID:13402-1789063200-1789066800@www.runwildmissoula.org
SUMMARY:Dry Miles
DESCRIPTION:The Second Thursday of every month at 6 p.m. \nThis group unifies those who are cutting back\, sober-curious\, ten years sober (or anywhere in between!) to share the same love for running and walking within the Missoula community. We aim to foster a welcoming\, social event without alcohol. While we offer a positive\, substance-free environment\, Dry Miles Missoula is not an official recovery or substance treatment program.** \nThis monthly meetup is a casual fun run/walk open to all runners and walkers of all abilities. Each month a 3 and 5 mile route is offered. \nRun Wild Missoula membership is not required\, but encouraged. 
URL:https://www.runwildmissoula.org/event/dry-miles-21/
LOCATION:Dairy Queen on Higgins\, 1735 S Higgins Ave\, Missoula\, MT\, 59802\, United States
ORGANIZER;CN="Run Wild Missoula":MAILTO:info@runwildmissoula.org
END:VEVENT
BEGIN:VEVENT
DTSTART;TZID=America/Denver:20260927T093000
DTEND;TZID=America/Denver:20260927T120000
DTSTAMP:20260419T183104
CREATED:20260417T200131Z
LAST-MODIFIED:20260417T200131Z
UID:13382-1790501400-1790510400@www.runwildmissoula.org
SUMMARY:Fierce Fab Women's Running Festival
DESCRIPTION:An event to celebrate your fiercest\, most fabulous self! Join us this September in Historical Fort Missoula for an empowering and fun-filled day where you can walk or run as many 1-mile laps as you like within a 2-hour period. \nEnjoy glitter and face painting\, and dance to lively music. Don’t miss out on our raffle with epic prizes\, a mimosa bar to toast your achievements\, and awards for the fiercest and most fabulous outfits. It’s an event you won’t want to miss – come celebrate strength\, community\, and fabulousness!
URL:https://www.runwildmissoula.org/event/fierce-fab-womens-running-festival-2/
LOCATION:Historical Museum at Fort Missoula\, 3400 Capt Rawn Way\, Missoula\, MT\, 59804\, United States
ORGANIZER;CN="Run Wild Missoula":MAILTO:info@runwildmissoula.org
END:VEVENT
BEGIN:VEVENT
DTSTART;TZID=America/Denver:20260930T180000
DTEND;TZID=America/Denver:20260930T200000
DTSTAMP:20260419T183104
CREATED:20260309T191407Z
LAST-MODIFIED:20260309T191407Z
UID:13118-1790791200-1790798400@www.runwildmissoula.org
SUMMARY:Beer Run
DESCRIPTION:
URL:https://www.runwildmissoula.org/event/beer-run-8/
LOCATION:Lolo Peak Brewery\, 6201 Brewery Way\, Lolo\, MT\, 59847\, United States
END:VEVENT
BEGIN:VEVENT
DTSTART;TZID=America/Denver:20261008T180000
DTEND;TZID=America/Denver:20261008T190000
DTSTAMP:20260419T183104
CREATED:20260417T201654Z
LAST-MODIFIED:20260417T201654Z
UID:13404-1791482400-1791486000@www.runwildmissoula.org
SUMMARY:Dry Miles
DESCRIPTION:The Second Thursday of every month at 6 p.m. \nThis group unifies those who are cutting back\, sober-curious\, ten years sober (or anywhere in between!) to share the same love for running and walking within the Missoula community. We aim to foster a welcoming\, social event without alcohol. While we offer a positive\, substance-free environment\, Dry Miles Missoula is not an official recovery or substance treatment program.** \nThis monthly meetup is a casual fun run/walk open to all runners and walkers of all abilities. Each month a 3 and 5 mile route is offered. \nRun Wild Missoula membership is not required\, but encouraged. 
URL:https://www.runwildmissoula.org/event/dry-miles-22/
LOCATION:Dairy Queen on Higgins\, 1735 S Higgins Ave\, Missoula\, MT\, 59802\, United States
ORGANIZER;CN="Run Wild Missoula":MAILTO:info@runwildmissoula.org
END:VEVENT
BEGIN:VEVENT
DTSTART;TZID=America/Denver:20261018T070000
DTEND;TZID=America/Denver:20261018T190000
DTSTAMP:20260419T183104
CREATED:20251204T174922Z
LAST-MODIFIED:20251204T174922Z
UID:12710-1792306800-1792350000@www.runwildmissoula.org
SUMMARY:City to Sky Trail Races
DESCRIPTION:These unique trail races finishes in Missoula’s University District featuring less than 2 miles of pavement and some of the smoothest single track in Montana. Both races highlight the best of Missoula’s iconic open space\, conservation lands and recreation areas. \n\n→ The 50K features multiple mountain summits totaling 8\,000 feet of elevation gain over 33 miles\, circumnavigating the Pattee Creek watershed. \n\n→ The 25K runs the back half of the 50K on the incredible House of Sky Ridgeline Trail.
URL:https://www.runwildmissoula.org/event/city-to-sky-trail-races/
LOCATION:Dornblaser Track\, Lewis and Clark Trail\, Missoula\, Montana\, 59801
ORGANIZER;CN="Run Wild Missoula":MAILTO:info@runwildmissoula.org
END:VEVENT
BEGIN:VEVENT
DTSTART;TZID=America/Denver:20261025T102500
DTEND;TZID=America/Denver:20261025T123000
DTSTAMP:20260419T183104
CREATED:20260417T200739Z
LAST-MODIFIED:20260417T200739Z
UID:13385-1792923900-1792931400@www.runwildmissoula.org
SUMMARY:Skeleton Skedaddle 5K & Kids Pumpkin Run
DESCRIPTION:Put on your creepiest costumes\, stretch those spooky legs\, and enjoy this frightfully fun run with Run Wild Missoula and UM’s Physical Therapy Student Association at the Skeleton Skedaddle 5K & Kids Pumpkin Run! \nSkedaddle over to Silver Park on Sunday\, October 25th. Halloween costumes are strongly encouraged!
URL:https://www.runwildmissoula.org/event/skeleton-skedaddle-5k-kids-pumpkin-run-2/
LOCATION:Silver Park\, Silver Park\, Missoula\, Montana\, 59802
ORGANIZER;CN="Run Wild Missoula":MAILTO:info@runwildmissoula.org
END:VEVENT
BEGIN:VEVENT
DTSTART;TZID=America/Denver:20261028T180000
DTEND;TZID=America/Denver:20261028T200000
DTSTAMP:20260419T183104
CREATED:20260309T191515Z
LAST-MODIFIED:20260309T191515Z
UID:13120-1793210400-1793217600@www.runwildmissoula.org
SUMMARY:Beer Run
DESCRIPTION:
URL:https://www.runwildmissoula.org/event/beer-run-9/
LOCATION:Bayern Brewing\, 1507 Montana St\, Missoula\, MT\, 59801\, United States
END:VEVENT
BEGIN:VEVENT
DTSTART;TZID=America/Denver:20261107T100000
DTEND;TZID=America/Denver:20261107T140000
DTSTAMP:20260419T183104
CREATED:20260417T200937Z
LAST-MODIFIED:20260417T200937Z
UID:13387-1794045600-1794060000@www.runwildmissoula.org
SUMMARY:Mount Jumbo Elk Ramble 15K
DESCRIPTION:Don’t miss the opportunity to take part in the only organized trail race on Mt. Jumbo. Run Wild Missoula is pleased to present the Mount Jumbo Elk Ramble 15K Trail Race! \nAs part of this exclusive event\, you will experience stunning landscapes as you traverse the winter home of the Mt. Jumbo elk herd. The Mount Jumbo Wildlife Management Area closes to all recreation on December 1st – take this chance to practice responsible recreation on Missoula’s Conservation & Open Space Lands and welcome the wildlife herds back to Jumbo!
URL:https://www.runwildmissoula.org/event/mount-jumbo-elk-ramble-15k-3/
LOCATION:Hellgate Soccer Fields\, 1630-2048 Lincoln Hills Drive\, Missoula\, MT\, 59802\, United States
ORGANIZER;CN="Run Wild Missoula":MAILTO:info@runwildmissoula.org
END:VEVENT
BEGIN:VEVENT
DTSTART;TZID=America/Denver:20261112T180000
DTEND;TZID=America/Denver:20261112T190000
DTSTAMP:20260419T183104
CREATED:20260417T201750Z
LAST-MODIFIED:20260417T201750Z
UID:13409-1794506400-1794510000@www.runwildmissoula.org
SUMMARY:Dry Miles
DESCRIPTION:The Second Thursday of every month at 6 p.m. \nThis group unifies those who are cutting back\, sober-curious\, ten years sober (or anywhere in between!) to share the same love for running and walking within the Missoula community. We aim to foster a welcoming\, social event without alcohol. While we offer a positive\, substance-free environment\, Dry Miles Missoula is not an official recovery or substance treatment program.** \nThis monthly meetup is a casual fun run/walk open to all runners and walkers of all abilities. Each month a 3 and 5 mile route is offered. \nRun Wild Missoula membership is not required\, but encouraged. 
URL:https://www.runwildmissoula.org/event/dry-miles-23/
LOCATION:Pie Hole\, 525 N Higgins Ave\, Missoula\, MT\, 59802\, United States
ORGANIZER;CN="Run Wild Missoula":MAILTO:info@runwildmissoula.org
END:VEVENT
BEGIN:VEVENT
DTSTART;TZID=America/Denver:20261118T180000
DTEND;TZID=America/Denver:20261118T200000
DTSTAMP:20260419T183104
CREATED:20260309T191604Z
LAST-MODIFIED:20260309T191604Z
UID:13122-1795024800-1795032000@www.runwildmissoula.org
SUMMARY:Beer Run
DESCRIPTION:
URL:https://www.runwildmissoula.org/event/beer-run-10/
LOCATION:Great Burn Brewing\, 2230 McDonald Ave\, Missoula\, MT\, 59801\, United States
END:VEVENT
BEGIN:VEVENT
DTSTART;TZID=America/Denver:20261126T093000
DTEND;TZID=America/Denver:20261126T123000
DTSTAMP:20260419T183104
CREATED:20260417T201221Z
LAST-MODIFIED:20260417T201221Z
UID:13389-1795685400-1795696200@www.runwildmissoula.org
SUMMARY:Turkey Day 8K & 3K Family Fun Run
DESCRIPTION:Get your appetite ready for that second (or third!) helping of stuffing by joining us for the annual Turkey Trot 8K and 3K Family Fun Run this Thanksgiving! Whether you run\, walk\, or waddle\, you’ll enjoy a scenic course around the University of Montana campus and along the Clark Fork River Trail. A portion of proceeds and all donations support the Missoula Food Bank.
URL:https://www.runwildmissoula.org/event/turkey-day-8k-3k-family-fun-run-2/
LOCATION:UM Campus Rec\, 32 Campus Dr.\, Missoula\, Montana\, 59812
ORGANIZER;CN="Run Wild Missoula":MAILTO:info@runwildmissoula.org
END:VEVENT
BEGIN:VEVENT
DTSTART;TZID=America/Denver:20261210T180000
DTEND;TZID=America/Denver:20261210T190000
DTSTAMP:20260419T183104
CREATED:20260417T201836Z
LAST-MODIFIED:20260417T201836Z
UID:13411-1796925600-1796929200@www.runwildmissoula.org
SUMMARY:Dry Miles
DESCRIPTION:The Second Thursday of every month at 6 p.m. \nThis group unifies those who are cutting back\, sober-curious\, ten years sober (or anywhere in between!) to share the same love for running and walking within the Missoula community. We aim to foster a welcoming\, social event without alcohol. While we offer a positive\, substance-free environment\, Dry Miles Missoula is not an official recovery or substance treatment program.** \nThis monthly meetup is a casual fun run/walk open to all runners and walkers of all abilities. Each month a 3 and 5 mile route is offered. \nRun Wild Missoula membership is not required\, but encouraged. 
URL:https://www.runwildmissoula.org/event/dry-miles-24/
LOCATION:Pie Hole\, 525 N Higgins Ave\, Missoula\, MT\, 59802\, United States
ORGANIZER;CN="Run Wild Missoula":MAILTO:info@runwildmissoula.org
END:VEVENT
END:VCALENDAR