BEGIN:VCALENDAR
VERSION:2.0
PRODID:-//Run Wild Missoula - ECPv6.15.18//NONSGML v1.0//EN
CALSCALE:GREGORIAN
METHOD:PUBLISH
X-WR-CALNAME:Run Wild Missoula
X-ORIGINAL-URL:https://www.runwildmissoula.org
X-WR-CALDESC:Events for Run Wild Missoula
REFRESH-INTERVAL;VALUE=DURATION:PT1H
X-Robots-Tag:noindex
X-PUBLISHED-TTL:PT1H
BEGIN:VTIMEZONE
TZID:America/Denver
BEGIN:DAYLIGHT
TZOFFSETFROM:-0700
TZOFFSETTO:-0600
TZNAME:MDT
DTSTART:20240310T090000
END:DAYLIGHT
BEGIN:STANDARD
TZOFFSETFROM:-0600
TZOFFSETTO:-0700
TZNAME:MST
DTSTART:20241103T080000
END:STANDARD
BEGIN:DAYLIGHT
TZOFFSETFROM:-0700
TZOFFSETTO:-0600
TZNAME:MDT
DTSTART:20250309T090000
END:DAYLIGHT
BEGIN:STANDARD
TZOFFSETFROM:-0600
TZOFFSETTO:-0700
TZNAME:MST
DTSTART:20251102T080000
END:STANDARD
BEGIN:DAYLIGHT
TZOFFSETFROM:-0700
TZOFFSETTO:-0600
TZNAME:MDT
DTSTART:20260308T090000
END:DAYLIGHT
BEGIN:STANDARD
TZOFFSETFROM:-0600
TZOFFSETTO:-0700
TZNAME:MST
DTSTART:20261101T080000
END:STANDARD
END:VTIMEZONE
BEGIN:VEVENT
DTSTART;TZID=America/Denver:20250423T180000
DTEND;TZID=America/Denver:20250423T193000
DTSTAMP:20260419T220000
CREATED:20250408T154953Z
LAST-MODIFIED:20250408T154953Z
UID:11695-1745431200-1745436600@www.runwildmissoula.org
SUMMARY:Becoming A Wild Runner: Wildlife Wise
DESCRIPTION:Do you know what to do if you encounter a black bear while out on the trail? How about a Grizzly? Or a mountain lion or moose? \nJoin us for an evening dedicated to responsible recreation and wildlife safety on Montana’s trails. Whether you’re a trail runner\, hiker\, or outdoor enthusiast\, knowing how to coexist with wildlife is essential. \nLearn from local wildlife experts about safely navigating bear\, mountain lion\, and other wildlife encounters\, and get hands-on experience with inert bear spray demonstrations. We’ll cover best practices for trail use\, including making noise\, carrying bear spray\, and recognizing wildlife behavior. \nDon’t miss this opportunity to gain confidence and knowledge for your next adventure. Let’s hit the trails responsibly and keep both people and wildlife safe! \nThis event is free and open to the public!
URL:https://www.runwildmissoula.org/event/becoming-a-wild-runner-wildlife-wise/
LOCATION:Greenough Park Pavilion\, 1001 Monroe St\, Missoula\, MT\, 59802\, United States
ORGANIZER;CN="RWM Programs":MAILTO:sidneys@runwildmissoula.org
END:VEVENT
BEGIN:VEVENT
DTSTART;TZID=America/Denver:20250422T180000
DTEND;TZID=America/Denver:20250422T190000
DTSTAMP:20260419T220000
CREATED:20250329T185920Z
LAST-MODIFIED:20250329T185920Z
UID:11639-1745344800-1745348400@www.runwildmissoula.org
SUMMARY:Tuesday Track
DESCRIPTION:Tuesday Track is a great way to get your speed workout in (no matter your speed!) each week and take advantage of workouts led by Coach Courtney Babcock\, former Canadian Record Holder and Olympian. Workouts change location and focus depending on the time of year. Read on below for an explanation of different locations and specific dates\, or click here for a write up on Tuesday Track.
URL:https://www.runwildmissoula.org/event/tuesday-track-4/
LOCATION:Dornblaser Track\, Lewis and Clark Trail\, Missoula\, Montana\, 59801
ORGANIZER;CN="Run Wild Missoula":MAILTO:info@runwildmissoula.org
END:VEVENT
BEGIN:VEVENT
DTSTART;TZID=America/Denver:20250419T080000
DTEND;TZID=America/Denver:20250419T100000
DTSTAMP:20260419T220000
CREATED:20250329T185306Z
LAST-MODIFIED:20250329T190119Z
UID:11627-1745049600-1745056800@www.runwildmissoula.org
SUMMARY:Saturday Breakfast Run
DESCRIPTION:Looking for a longer weekend group walk or run? Join RWM & class lead Tim Mosbacher every Saturday at 8:00 AM in the basement of Runner’s Edge. When you return\, there are breakfast treats for everyone! We have route ideas for all walkers\, joggers and runners alike. Speed and pacing does not matter in this group- moving is moving after all!
URL:https://www.runwildmissoula.org/event/saturday-breakfast-run-3/
LOCATION:Runner’s Edge\, 304 N Higgins Ave\, Missoula\, MT\, 59802\, United States
ORGANIZER;CN="Run Wild Missoula":MAILTO:info@runwildmissoula.org
END:VEVENT
BEGIN:VEVENT
DTSTART;TZID=America/Denver:20250416T180000
DTEND;TZID=America/Denver:20250416T193000
DTSTAMP:20260419T220000
CREATED:20250329T193706Z
LAST-MODIFIED:20250329T193706Z
UID:11645-1744826400-1744831800@www.runwildmissoula.org
SUMMARY:Runner Education Series
DESCRIPTION:This education series is structured to complement our Missoula Marathon and Half Marathon Training Class\, but all RWM members can attend. All events are Wednesday\, 6:00 pm at Headwaters Foundation (119 W Main).\nApril 16\, 2025 Topic:  \nNon-Invasive\, Holistic Recovery for Long Distance Running \nPresenters: \nCody Thompson\, Director of RENU Wellness Spa and Certified Personal Trainer\, and Courtney Gerard\, Ultra-Marathon Runner\nAchieve peak performance and superior recovery\, with in person demonstrations of some of their best recovery tools and techniques. This 90-minute lecture will cover fitness recovery for runners\, non-invasive drug-free management modalities\, and a question and answer session. 
URL:https://www.runwildmissoula.org/event/runner-education-series-11/
LOCATION:Confluence Center\, 119 W Main St\, Missoula\, MT\, 59802\, United States
ORGANIZER;CN="Run Wild Missoula":MAILTO:info@runwildmissoula.org
END:VEVENT
BEGIN:VEVENT
DTSTART;TZID=America/Denver:20250415T180000
DTEND;TZID=America/Denver:20250415T190000
DTSTAMP:20260419T220000
CREATED:20250329T185822Z
LAST-MODIFIED:20250329T185822Z
UID:11636-1744740000-1744743600@www.runwildmissoula.org
SUMMARY:Tuesday Track
DESCRIPTION:Tuesday Track is a great way to get your speed workout in (no matter your speed!) each week and take advantage of workouts led by Coach Courtney Babcock\, former Canadian Record Holder and Olympian. Workouts change location and focus depending on the time of year. Read on below for an explanation of different locations and specific dates\, or click here for a write up on Tuesday Track.
URL:https://www.runwildmissoula.org/event/tuesday-track-3/
LOCATION:Dornblaser Track\, Lewis and Clark Trail\, Missoula\, Montana\, 59801
ORGANIZER;CN="Run Wild Missoula":MAILTO:info@runwildmissoula.org
END:VEVENT
BEGIN:VEVENT
DTSTART;TZID=America/Denver:20250413T110000
DTEND;TZID=America/Denver:20250413T150000
DTSTAMP:20260419T220000
CREATED:20250402T155118Z
LAST-MODIFIED:20250402T155118Z
UID:11682-1744542000-1744556400@www.runwildmissoula.org
SUMMARY:North Hills Volunteer Trail Work Day
DESCRIPTION:Trail Reroute – Mountain View Trail\n11am-3pm on 4/13 \n11am-3pm on 4/26\nMeet at Duncan Dr Soccer Fields\nRSVP to Justin\nHelp Conservation Lands Program staff complete their first trail project of 2025 – a re-route on the Mountain View trail! Connecting the Upper Rattlesnake to the North Hill’s Waterworks trail system\, the Mountain View trail is a year-round destination for Missoula hikers\, runners\, and dog-walkers. This year\, Missoula Parks and Recreation Conservation Lands Program staff will be re-routing an upper section of the trail to address vegetation damage\, erosion issues\, and to create a more enjoyable user experience. \nVolunteers will work alongside staff to complete this trail reroute. The project will include digging new trail tread with hand-tools\, ‘rescuing’ native plants that are in the path of the new trail\, decommissioning the existing section of trail once the new reroute is complete\, and planting salvaged plants and spreading native plant seeds into the decommissioned section of trail.  \nVolunteers will meet at Duncan Dr Soccer Fields (located at the intersection of Duncan Dr. and Mountain View Dr.) and walk to the project site. Conservation Lands staff will have gloves available and will provide all required tools for this project. Volunteers should come prepared for a morning of working outside – including plenty of water\, sun protection\, and snacks. Long pants and sturdy closed-toe shoes are highly recommended.
URL:https://www.runwildmissoula.org/event/north-hills-volunteer-trail-work-day/
LOCATION:Duncan Dr Soccer Fields\, 3010 Duncan Hills Dr\, Missoula\, MT\, 59802\, United States
ORGANIZER;CN="RWM Programs":MAILTO:sidneys@runwildmissoula.org
END:VEVENT
BEGIN:VEVENT
DTSTART;TZID=America/Denver:20250412T093000
DTEND;TZID=America/Denver:20250412T120000
DTSTAMP:20260419T220000
CREATED:20241029T203608Z
LAST-MODIFIED:20250311T211528Z
UID:10946-1744450200-1744459200@www.runwildmissoula.org
SUMMARY:Run for the Trees 5K & 10K
DESCRIPTION:
URL:https://www.runwildmissoula.org/event/run-for-the-trees/
LOCATION:Silver Park\, Silver Park\, Missoula\, Montana\, 59802
ORGANIZER;CN="Run Wild Missoula":MAILTO:info@runwildmissoula.org
END:VEVENT
BEGIN:VEVENT
DTSTART;TZID=America/Denver:20250412T080000
DTEND;TZID=America/Denver:20250412T100000
DTSTAMP:20260419T220000
CREATED:20250329T185219Z
LAST-MODIFIED:20250329T190059Z
UID:11625-1744444800-1744452000@www.runwildmissoula.org
SUMMARY:Saturday Breakfast Run
DESCRIPTION:Looking for a longer weekend group walk or run? Join RWM & class lead Tim Mosbacher every Saturday at 8:00 AM in the basement of Runner’s Edge. When you return\, there are breakfast treats for everyone! We have route ideas for all walkers\, joggers and runners alike. Speed and pacing does not matter in this group- moving is moving after all!
URL:https://www.runwildmissoula.org/event/saturday-breakfast-run-2/
LOCATION:Runner’s Edge\, 304 N Higgins Ave\, Missoula\, MT\, 59802\, United States
ORGANIZER;CN="Run Wild Missoula":MAILTO:info@runwildmissoula.org
END:VEVENT
BEGIN:VEVENT
DTSTART;TZID=America/Denver:20250410T180000
DTEND;TZID=America/Denver:20250410T200000
DTSTAMP:20260419T220000
CREATED:20250311T211441Z
LAST-MODIFIED:20250311T211441Z
UID:11535-1744308000-1744315200@www.runwildmissoula.org
SUMMARY:Dry Miles
DESCRIPTION:
URL:https://www.runwildmissoula.org/event/dry-miles-5/
LOCATION:Pie Hole\, 525 N Higgins Ave\, Missoula\, MT\, 59802\, United States
ORGANIZER;CN="Run Wild Missoula":MAILTO:info@runwildmissoula.org
END:VEVENT
BEGIN:VEVENT
DTSTART;TZID=America/Denver:20250408T180000
DTEND;TZID=America/Denver:20250408T200000
DTSTAMP:20260419T220000
CREATED:20250329T184639Z
LAST-MODIFIED:20250404T201834Z
UID:11619-1744135200-1744142400@www.runwildmissoula.org
SUMMARY:Queer Run
DESCRIPTION:The Second Tuesday of every month at 6 p.m. \nThis group unifies queer individuals who share the same love for running and walking within the Missoula community. We aim to foster a welcoming space for queer individuals\, creating representation of the LGBTQIA+ community within running and walking\, both road and trail\, ideally becoming examples and voices for others. \nThis monthly meetup is a casual fun run/walk open to all runners and walkers of all abilities. Each month a 3 and 5 mile route is offered. At the end is a social gathering with libations and food.  \nThis event is reserved for members of the LGBTQIA+ community. While we are grateful for our allies\, we’re excited to offer this experience for our queer community.  \nRun Wild Missoula membership is not required\, but encouraged. Runners are responsible for their own beverage and food purchases. Non-alcoholic beverages are also available.
URL:https://www.runwildmissoula.org/event/queer-run/
LOCATION:Cambie Tap House + Coffee\, 2413 S Higgins Ave\, Missoula\, MT\, 59801\, United States
ORGANIZER;CN="Run Wild Missoula":MAILTO:info@runwildmissoula.org
END:VEVENT
BEGIN:VEVENT
DTSTART;TZID=America/Denver:20250408T180000
DTEND;TZID=America/Denver:20250408T190000
DTSTAMP:20260419T220000
CREATED:20250329T185734Z
LAST-MODIFIED:20250329T185734Z
UID:11634-1744135200-1744138800@www.runwildmissoula.org
SUMMARY:Tuesday Track
DESCRIPTION:Tuesday Track is a great way to get your speed workout in (no matter your speed!) each week and take advantage of workouts led by Coach Courtney Babcock\, former Canadian Record Holder and Olympian. Workouts change location and focus depending on the time of year. Read on below for an explanation of different locations and specific dates\, or click here for a write up on Tuesday Track.
URL:https://www.runwildmissoula.org/event/tuesday-track-2/
LOCATION:Dornblaser Track\, Lewis and Clark Trail\, Missoula\, Montana\, 59801
ORGANIZER;CN="Run Wild Missoula":MAILTO:info@runwildmissoula.org
END:VEVENT
BEGIN:VEVENT
DTSTART;TZID=America/Denver:20250406T100000
DTEND;TZID=America/Denver:20250406T110000
DTSTAMP:20260419T220000
CREATED:20250329T203713Z
LAST-MODIFIED:20250329T203713Z
UID:11652-1743933600-1743937200@www.runwildmissoula.org
SUMMARY:Hot Walk
DESCRIPTION:Want to participate in a Run Missoula event but running itself isn’t quite your jam? Join Run Wild Missoula’s Back Of The Pack (BOP) in our new program – Hot Walk Missoula! Modeled after the “Hot Girl Walks” of internet fame\, Hot Walk Missoula aims to get anyone and everyone looking to add more movement and friends into their lives out and walking.   \nWhat’s a “Hot Walk\,” you ask? It’s not just a walk – it’s a stroll of gratitude\, goals\, and good vibes!
URL:https://www.runwildmissoula.org/event/hot-walk/
LOCATION:South side of the Van Buren St. Foot Bridge\, Missoula\, Montana\, 59802
ORGANIZER;CN="Run Wild Missoula":MAILTO:info@runwildmissoula.org
END:VEVENT
BEGIN:VEVENT
DTSTART;VALUE=DATE:20250406
DTEND;VALUE=DATE:20250407
DTSTAMP:20260419T220000
CREATED:20250327T164256Z
LAST-MODIFIED:20250327T164256Z
UID:11595-1743897600-1743983999@www.runwildmissoula.org
SUMMARY:406 Day!
DESCRIPTION:Celebrate Montana with us! \nApril 6 is 406 day! Celebrate living in the beautiful 406 area code by walking\, jogging\, or running 4.06 miles. Complete those miles and tag us on social media using @runwildmissoula to get a free Dram Shop token on us! Feeling ambitious? Complete 40.6 miles and get 12 tokens!\n\nAs you may have noticed ()\, 406 Day falls on a Sunday this year! Stop by our office to pick up your Dram Shop token and enjoy a classic Missoula drink on Monday\, April 7!\n\nHave a wonderful day in Missoula!
URL:https://www.runwildmissoula.org/event/406-day-3/
LOCATION:MT
END:VEVENT
BEGIN:VEVENT
DTSTART;TZID=America/Denver:20250405T080000
DTEND;TZID=America/Denver:20250405T100000
DTSTAMP:20260419T220000
CREATED:20250329T185008Z
LAST-MODIFIED:20250329T190040Z
UID:11623-1743840000-1743847200@www.runwildmissoula.org
SUMMARY:Saturday Breakfast Run
DESCRIPTION:Looking for a longer weekend group walk or run? Join RWM & class lead Tim Mosbacher every Saturday at 8:00 AM in the basement of Runner’s Edge. When you return\, there are breakfast treats for everyone! We have route ideas for all walkers\, joggers and runners alike. Speed and pacing does not matter in this group- moving is moving after all!
URL:https://www.runwildmissoula.org/event/saturday-breakfast-run/
LOCATION:Runner’s Edge\, 304 N Higgins Ave\, Missoula\, MT\, 59802\, United States
CATEGORIES:Recurring
ORGANIZER;CN="Run Wild Missoula":MAILTO:info@runwildmissoula.org
END:VEVENT
BEGIN:VEVENT
DTSTART;TZID=America/Denver:20250402T180000
DTEND;TZID=America/Denver:20250402T193000
DTSTAMP:20260419T220000
CREATED:20250329T193526Z
LAST-MODIFIED:20250329T193526Z
UID:11643-1743616800-1743622200@www.runwildmissoula.org
SUMMARY:Runner Education Series
DESCRIPTION:This education series is structured to complement our Missoula Marathon and Half Marathon Training Class\, but all RWM members can attend. All events are Wednesday\, 6:00 pm at Headwaters Foundation (119 W Main).  \nApril 2\, 2025 Topic:  \nFootwear & Form\nPresenters: \nMeg Brooker from the Runner’s Edge \nCourney Babcock of The Sport Specialist \nWhat you can expect to buy throughout the training cycle\, RWM member discounts and the 3 Ss (shoes\, socks\, sports bra).  PLUS – Best practices for walking and running form Olympian and professional coach Courtney Babcock.
URL:https://www.runwildmissoula.org/event/runner-education-series-10/
LOCATION:Confluence Center\, 119 W Main St\, Missoula\, MT\, 59802\, United States
ORGANIZER;CN="Run Wild Missoula":MAILTO:info@runwildmissoula.org
END:VEVENT
BEGIN:VEVENT
DTSTART;TZID=America/Denver:20250402T180000
DTEND;TZID=America/Denver:20250402T190000
DTSTAMP:20260419T220000
CREATED:20250122T193356Z
LAST-MODIFIED:20250122T193356Z
UID:11313-1743616800-1743620400@www.runwildmissoula.org
SUMMARY:Run Wild Readers
DESCRIPTION:
URL:https://www.runwildmissoula.org/event/run-wild-readers-3/
LOCATION:125 E Main St\, 125 E Main St\, Missoula\, MT\, 59802\, United States
ORGANIZER;CN="RWM Programs":MAILTO:sidneys@runwildmissoula.org
END:VEVENT
BEGIN:VEVENT
DTSTART;TZID=America/Denver:20250401T180000
DTEND;TZID=America/Denver:20250401T190000
DTSTAMP:20260419T220000
CREATED:20250329T185655Z
LAST-MODIFIED:20250329T185655Z
UID:11631-1743530400-1743534000@www.runwildmissoula.org
SUMMARY:Tuesday Track
DESCRIPTION:Tuesday Track is a great way to get your speed workout in (no matter your speed!) each week and take advantage of workouts led by Coach Courtney Babcock\, former Canadian Record Holder and Olympian. Workouts change location and focus depending on the time of year. Read on below for an explanation of different locations and specific dates\, or click here for a write up on Tuesday Track.
URL:https://www.runwildmissoula.org/event/tuesday-track/
LOCATION:Dornblaser Track\, Lewis and Clark Trail\, Missoula\, Montana\, 59801
ORGANIZER;CN="Run Wild Missoula":MAILTO:info@runwildmissoula.org
END:VEVENT
BEGIN:VEVENT
DTSTART;TZID=America/Denver:20250326T173000
DTEND;TZID=America/Denver:20250326T183000
DTSTAMP:20260419T220000
CREATED:20241211T232357Z
LAST-MODIFIED:20241211T232357Z
UID:11188-1743010200-1743013800@www.runwildmissoula.org
SUMMARY:Wednesday Evening Yoga
DESCRIPTION:
URL:https://www.runwildmissoula.org/event/wednesday-evening-yoga-47/
LOCATION:Runner’s Edge\, 304 N Higgins Ave\, Missoula\, MT\, 59802\, United States
ORGANIZER;CN="RWM Programs":MAILTO:sidneys@runwildmissoula.org
END:VEVENT
BEGIN:VEVENT
DTSTART;TZID=America/Denver:20250324T121500
DTEND;TZID=America/Denver:20250324T130000
DTSTAMP:20260419T220000
CREATED:20241211T231647Z
LAST-MODIFIED:20241211T231647Z
UID:11166-1742818500-1742821200@www.runwildmissoula.org
SUMMARY:Monday Lunch Yoga
DESCRIPTION:
URL:https://www.runwildmissoula.org/event/monday-lunch-yoga-49/
LOCATION:Runner’s Edge\, 304 N Higgins Ave\, Missoula\, MT\, 59802\, United States
ORGANIZER;CN="RWM Programs":MAILTO:sidneys@runwildmissoula.org
END:VEVENT
BEGIN:VEVENT
DTSTART;TZID=America/Denver:20250317T121500
DTEND;TZID=America/Denver:20250317T130000
DTSTAMP:20260419T220000
CREATED:20241211T222950Z
LAST-MODIFIED:20241211T222950Z
UID:11164-1742213700-1742216400@www.runwildmissoula.org
SUMMARY:Monday Lunch Yoga
DESCRIPTION:
URL:https://www.runwildmissoula.org/event/monday-lunch-yoga-48/
LOCATION:Runner’s Edge\, 304 N Higgins Ave\, Missoula\, MT\, 59802\, United States
ORGANIZER;CN="RWM Programs":MAILTO:sidneys@runwildmissoula.org
END:VEVENT
BEGIN:VEVENT
DTSTART;TZID=America/Denver:20250315T084500
DTEND;TZID=America/Denver:20250315T120000
DTSTAMP:20260419T220000
CREATED:20241029T203420Z
LAST-MODIFIED:20241029T210045Z
UID:10944-1742028300-1742040000@www.runwildmissoula.org
SUMMARY:Run For The Luck Of It
DESCRIPTION:Kick off your St. Patrick’s Day festivities with Run Wild Missoula at the Run for the Luck of It! On Saturday morning\, March 15th Walk our run our 5K or 7 miler. But don’t forget your Little Leprechauns for the free kids dash. Let the beat of the Celtic Dragon Pipe band help you finish strong\, Then indulge in classic Irish nourishment like bangers & mash along with beverages from Big Sky Brewing in your custom Run for the Luck of it! stein. \nCourses start and finish at the Missoula County Fairgrounds. 
URL:https://www.runwildmissoula.org/event/run-for-the-luck-of-it-2/
LOCATION:Missoula County Fairgrounds\, Missoula\, Montana\, 59802
ORGANIZER;CN="Run Wild Missoula":MAILTO:info@runwildmissoula.org
END:VEVENT
BEGIN:VEVENT
DTSTART;TZID=America/Denver:20250313T180000
DTEND;TZID=America/Denver:20250313T200000
DTSTAMP:20260419T220000
CREATED:20250311T211339Z
LAST-MODIFIED:20250311T211339Z
UID:11533-1741888800-1741896000@www.runwildmissoula.org
SUMMARY:Dry Miles
DESCRIPTION:
URL:https://www.runwildmissoula.org/event/dry-miles-4/
LOCATION:Pie Hole\, 525 N Higgins Ave\, Missoula\, MT\, 59802\, United States
ORGANIZER;CN="Run Wild Missoula":MAILTO:info@runwildmissoula.org
END:VEVENT
BEGIN:VEVENT
DTSTART;TZID=America/Denver:20250312T173000
DTEND;TZID=America/Denver:20250312T183000
DTSTAMP:20260419T220000
CREATED:20241211T232256Z
LAST-MODIFIED:20241211T232256Z
UID:11184-1741800600-1741804200@www.runwildmissoula.org
SUMMARY:Wednesday Evening Yoga
DESCRIPTION:
URL:https://www.runwildmissoula.org/event/wednesday-evening-yoga-45/
LOCATION:Runner’s Edge\, 304 N Higgins Ave\, Missoula\, MT\, 59802\, United States
ORGANIZER;CN="RWM Programs":MAILTO:sidneys@runwildmissoula.org
END:VEVENT
BEGIN:VEVENT
DTSTART;TZID=America/Denver:20250310T121500
DTEND;TZID=America/Denver:20250310T130000
DTSTAMP:20260419T220000
CREATED:20241211T222704Z
LAST-MODIFIED:20241211T222704Z
UID:11162-1741608900-1741611600@www.runwildmissoula.org
SUMMARY:Monday Lunch Yoga
DESCRIPTION:
URL:https://www.runwildmissoula.org/event/monday-lunch-yoga-47/
LOCATION:Runner’s Edge\, 304 N Higgins Ave\, Missoula\, MT\, 59802\, United States
ORGANIZER;CN="RWM Programs":MAILTO:sidneys@runwildmissoula.org
END:VEVENT
BEGIN:VEVENT
DTSTART;TZID=America/Denver:20250305T173000
DTEND;TZID=America/Denver:20250305T183000
DTSTAMP:20260419T220000
CREATED:20241211T232228Z
LAST-MODIFIED:20241211T232228Z
UID:11182-1741195800-1741199400@www.runwildmissoula.org
SUMMARY:Wednesday Evening Yoga
DESCRIPTION:
URL:https://www.runwildmissoula.org/event/wednesday-evening-yoga-44/
LOCATION:Runner’s Edge\, 304 N Higgins Ave\, Missoula\, MT\, 59802\, United States
ORGANIZER;CN="RWM Programs":MAILTO:sidneys@runwildmissoula.org
END:VEVENT
BEGIN:VEVENT
DTSTART;TZID=America/Denver:20250303T121500
DTEND;TZID=America/Denver:20250303T130000
DTSTAMP:20260419T220000
CREATED:20241211T222618Z
LAST-MODIFIED:20241211T222618Z
UID:11160-1741004100-1741006800@www.runwildmissoula.org
SUMMARY:Monday Lunch Yoga
DESCRIPTION:
URL:https://www.runwildmissoula.org/event/monday-lunch-yoga-46/
LOCATION:Runner’s Edge\, 304 N Higgins Ave\, Missoula\, MT\, 59802\, United States
ORGANIZER;CN="RWM Programs":MAILTO:sidneys@runwildmissoula.org
END:VEVENT
BEGIN:VEVENT
DTSTART;TZID=America/Denver:20250226T173000
DTEND;TZID=America/Denver:20250226T183000
DTSTAMP:20260419T220000
CREATED:20241211T232447Z
LAST-MODIFIED:20241211T232447Z
UID:11190-1740591000-1740594600@www.runwildmissoula.org
SUMMARY:Wednesday Evening Yoga
DESCRIPTION:
URL:https://www.runwildmissoula.org/event/wednesday-evening-yoga-48/
LOCATION:Runner’s Edge\, 304 N Higgins Ave\, Missoula\, MT\, 59802\, United States
ORGANIZER;CN="RWM Programs":MAILTO:sidneys@runwildmissoula.org
END:VEVENT
BEGIN:VEVENT
DTSTART;TZID=America/Denver:20250224T121500
DTEND;TZID=America/Denver:20250224T130000
DTSTAMP:20260419T220000
CREATED:20241211T222525Z
LAST-MODIFIED:20241211T222525Z
UID:11158-1740399300-1740402000@www.runwildmissoula.org
SUMMARY:Monday Lunch Yoga
DESCRIPTION:
URL:https://www.runwildmissoula.org/event/monday-lunch-yoga-45/
LOCATION:Runner’s Edge\, 304 N Higgins Ave\, Missoula\, MT\, 59802\, United States
ORGANIZER;CN="RWM Programs":MAILTO:sidneys@runwildmissoula.org
END:VEVENT
BEGIN:VEVENT
DTSTART;VALUE=DATE:20250223
DTEND;VALUE=DATE:20250224
DTSTAMP:20260419T220000
CREATED:20241029T202933Z
LAST-MODIFIED:20241029T204611Z
UID:10939-1740268800-1740355199@www.runwildmissoula.org
SUMMARY:2.23 Miles to Honor Ahmaud Arbery
DESCRIPTION:On February 23rd\, 2020 twenty-five year-old Ahmaud Arbery was murdered during a racially motivated hate crime while jogging in Satilla Shores\, a Georgia neighborhood.\nEveryone has the right to safe and inclusive experiences in public spaces and in the running and walking community.\nRun Wild Missoula is pleased to offer an in-person running and walking event for participants that would like to join. RWM will supply beverages and snacks for this gathering.
URL:https://www.runwildmissoula.org/event/2-23-miles-to-honor-ahmaud-arbery/
LOCATION:MT
END:VEVENT
BEGIN:VEVENT
DTSTART;TZID=America/Denver:20250222T110000
DTEND;TZID=America/Denver:20250222T140000
DTSTAMP:20260419T220000
CREATED:20241029T203135Z
LAST-MODIFIED:20241029T204507Z
UID:10941-1740222000-1740232800@www.runwildmissoula.org
SUMMARY:Snow Joke Half Marathon
DESCRIPTION:Mark your calendars for Saturday\, February 22\, 2025 for the 46th edition of this iconic Western Montana Winter Tradition! \nJoin us in Seeley Lake and challenge yourself to 13.1 blazing fast\, freezing cold miles!  
URL:https://www.runwildmissoula.org/event/snow-joke-half-marathon/
LOCATION:Seeley Lake Elementary School\, 200 School Lane\, Seeley Lake\, Montana\, 59868
END:VEVENT
END:VCALENDAR