BEGIN:VCALENDAR
VERSION:2.0
PRODID:-//Run Wild Missoula - ECPv6.15.20//NONSGML v1.0//EN
CALSCALE:GREGORIAN
METHOD:PUBLISH
X-WR-CALNAME:Run Wild Missoula
X-ORIGINAL-URL:https://www.runwildmissoula.org
X-WR-CALDESC:Events for Run Wild Missoula
REFRESH-INTERVAL;VALUE=DURATION:PT1H
X-Robots-Tag:noindex
X-PUBLISHED-TTL:PT1H
BEGIN:VTIMEZONE
TZID:America/Denver
BEGIN:DAYLIGHT
TZOFFSETFROM:-0700
TZOFFSETTO:-0600
TZNAME:MDT
DTSTART:20250309T090000
END:DAYLIGHT
BEGIN:STANDARD
TZOFFSETFROM:-0600
TZOFFSETTO:-0700
TZNAME:MST
DTSTART:20251102T080000
END:STANDARD
BEGIN:DAYLIGHT
TZOFFSETFROM:-0700
TZOFFSETTO:-0600
TZNAME:MDT
DTSTART:20260308T090000
END:DAYLIGHT
BEGIN:STANDARD
TZOFFSETFROM:-0600
TZOFFSETTO:-0700
TZNAME:MST
DTSTART:20261101T080000
END:STANDARD
BEGIN:DAYLIGHT
TZOFFSETFROM:-0700
TZOFFSETTO:-0600
TZNAME:MDT
DTSTART:20270314T090000
END:DAYLIGHT
BEGIN:STANDARD
TZOFFSETFROM:-0600
TZOFFSETTO:-0700
TZNAME:MST
DTSTART:20271107T080000
END:STANDARD
END:VTIMEZONE
BEGIN:VEVENT
DTSTART;TZID=America/Denver:20260502T100000
DTEND;TZID=America/Denver:20260502T120000
DTSTAMP:20260421T032039
CREATED:20260417T201955Z
LAST-MODIFIED:20260417T202012Z
UID:13413-1777716000-1777723200@www.runwildmissoula.org
SUMMARY:Art on the Run
DESCRIPTION:Join us for a free\, fun\, run that links public art through the heart of Missoula —showcasing murals\, sculptures\, and landmarks that bring creativity into everyday spaces. It’s a surprise! The route will be approximately 3 miles with run and walk leaders – all in support of ARTS Missoula.\nYou can meet us in person on Saturday\, May 2 or participate on your own beginning May 3! \nMeet at Caras Park under the Higgins Street Bridge.  \nREGISTER
URL:https://www.runwildmissoula.org/event/art-on-the-run-2/
LOCATION:Caras Park\, 123 Carousel Dr\, Missoula\, MT\, 59807\, United States
END:VEVENT
BEGIN:VEVENT
DTSTART;TZID=America/Denver:20260512T180000
DTEND;TZID=America/Denver:20260512T200000
DTSTAMP:20260421T032039
CREATED:20260403T165336Z
LAST-MODIFIED:20260417T202257Z
UID:13309-1778608800-1778616000@www.runwildmissoula.org
SUMMARY:Queer Run
DESCRIPTION:This monthly meetup is a casual fun run/walk open to all LGBTQIA+ runners and walkers of all abilities. Each month a 3 and 5 mile route is offered. At the end is a social gathering with libations and food. 
URL:https://www.runwildmissoula.org/event/queer-run-3/
LOCATION:Cranky Sam Public House\, 233 W Main St\, Missoula\, MT\, 59802\, United States
END:VEVENT
BEGIN:VEVENT
DTSTART;VALUE=DATE:20260513
DTEND;VALUE=DATE:20260514
DTSTAMP:20260421T032039
CREATED:20260403T171044Z
LAST-MODIFIED:20260417T201936Z
UID:13317-1778630400-1778716799@www.runwildmissoula.org
SUMMARY:Fierce Fab Registration Party
DESCRIPTION:More details to come!
URL:https://www.runwildmissoula.org/event/fierce-fab-registration-party/
LOCATION:MT
END:VEVENT
BEGIN:VEVENT
DTSTART;TZID=America/Denver:20260514T180000
DTEND;TZID=America/Denver:20260514T200000
DTSTAMP:20260421T032039
CREATED:20260309T191805Z
LAST-MODIFIED:20260417T202348Z
UID:13126-1778781600-1778788800@www.runwildmissoula.org
SUMMARY:Dry Miles
DESCRIPTION:This group unifies those who are cutting back\, sober-curious\, ten years sober (or anywhere in between!) to share the same love for running and walking within the Missoula community. We aim to foster a welcoming\, social event without alcohol. While we offer a positive\, substance-free environment\, Dry Miles Missoula is not an official recovery or substance treatment program.
URL:https://www.runwildmissoula.org/event/dry-miles-19/
LOCATION:Dairy Queen on Higgins\, 1735 S Higgins Ave\, Missoula\, MT\, 59802\, United States
END:VEVENT
BEGIN:VEVENT
DTSTART;TZID=America/Denver:20260514T180000
DTEND;TZID=America/Denver:20260514T200000
DTSTAMP:20260421T032039
CREATED:20260309T192713Z
LAST-MODIFIED:20260417T203158Z
UID:13131-1778781600-1778788800@www.runwildmissoula.org
SUMMARY:Becoming a Wild Runner
DESCRIPTION:Curious about hitting the trails but not sure where to start? Becoming a Wild Runner is a fun\, welcoming class where you’ll learn how to confidently share the outdoors with local wildlife—including when and how to use bear spray. Come ready to build skills\, ask questions\, and leave feeling more adventurous (and a little more wild).
URL:https://www.runwildmissoula.org/event/runner-education-series-becoming-a-wild-runner/
LOCATION:Greenough Park Pavilion\, 1001 Monroe St\, Missoula\, MT\, 59802\, United States
END:VEVENT
BEGIN:VEVENT
DTSTART;VALUE=DATE:20260525
DTEND;VALUE=DATE:20260526
DTSTAMP:20260421T032039
CREATED:20260309T192739Z
LAST-MODIFIED:20260309T192959Z
UID:13133-1779667200-1779753599@www.runwildmissoula.org
SUMMARY:RWM OFFICE CLOSED
DESCRIPTION:
URL:https://www.runwildmissoula.org/event/run-wild-missoula-office-closed/
LOCATION:MT
END:VEVENT
BEGIN:VEVENT
DTSTART;TZID=America/Denver:20260527T180000
DTEND;TZID=America/Denver:20260527T200000
DTSTAMP:20260421T032039
CREATED:20260309T191100Z
LAST-MODIFIED:20260417T205959Z
UID:13110-1779904800-1779912000@www.runwildmissoula.org
SUMMARY:Beer Run
DESCRIPTION:“5 Miles to Beer Thirty” –  The monthly beer run is a casual fun run/walk open to all runners and all abilities. Each month a 3 and 5 mile route is offered at a different brewery location on the last Wednesday of the month\, and at the end is a social gathering with libations and food.
URL:https://www.runwildmissoula.org/event/beer-run-5/
LOCATION:Draught Works\, 915 Toole Ave\, Missoula\, MT\, 59802\, United States
END:VEVENT
END:VCALENDAR