BEGIN:VCALENDAR
VERSION:2.0
PRODID:-//Run Wild Missoula - ECPv6.15.20//NONSGML v1.0//EN
CALSCALE:GREGORIAN
METHOD:PUBLISH
X-WR-CALNAME:Run Wild Missoula
X-ORIGINAL-URL:https://www.runwildmissoula.org
X-WR-CALDESC:Events for Run Wild Missoula
REFRESH-INTERVAL;VALUE=DURATION:PT1H
X-Robots-Tag:noindex
X-PUBLISHED-TTL:PT1H
BEGIN:VTIMEZONE
TZID:America/Denver
BEGIN:DAYLIGHT
TZOFFSETFROM:-0700
TZOFFSETTO:-0600
TZNAME:MDT
DTSTART:20250309T090000
END:DAYLIGHT
BEGIN:STANDARD
TZOFFSETFROM:-0600
TZOFFSETTO:-0700
TZNAME:MST
DTSTART:20251102T080000
END:STANDARD
BEGIN:DAYLIGHT
TZOFFSETFROM:-0700
TZOFFSETTO:-0600
TZNAME:MDT
DTSTART:20260308T090000
END:DAYLIGHT
BEGIN:STANDARD
TZOFFSETFROM:-0600
TZOFFSETTO:-0700
TZNAME:MST
DTSTART:20261101T080000
END:STANDARD
BEGIN:DAYLIGHT
TZOFFSETFROM:-0700
TZOFFSETTO:-0600
TZNAME:MDT
DTSTART:20270314T090000
END:DAYLIGHT
BEGIN:STANDARD
TZOFFSETFROM:-0600
TZOFFSETTO:-0700
TZNAME:MST
DTSTART:20271107T080000
END:STANDARD
END:VTIMEZONE
BEGIN:VEVENT
DTSTART;TZID=America/Denver:20260813T180000
DTEND;TZID=America/Denver:20260813T190000
DTSTAMP:20260421T072903
CREATED:20260417T201504Z
LAST-MODIFIED:20260417T201504Z
UID:13400-1786644000-1786647600@www.runwildmissoula.org
SUMMARY:Dry Miles
DESCRIPTION:The Second Thursday of every month at 6 p.m. \nThis group unifies those who are cutting back\, sober-curious\, ten years sober (or anywhere in between!) to share the same love for running and walking within the Missoula community. We aim to foster a welcoming\, social event without alcohol. While we offer a positive\, substance-free environment\, Dry Miles Missoula is not an official recovery or substance treatment program.** \nThis monthly meetup is a casual fun run/walk open to all runners and walkers of all abilities. Each month a 3 and 5 mile route is offered. \nRun Wild Missoula membership is not required\, but encouraged. 
URL:https://www.runwildmissoula.org/event/dry-miles-20/
LOCATION:Dairy Queen on Higgins\, 1735 S Higgins Ave\, Missoula\, MT\, 59802\, United States
ORGANIZER;CN="Run Wild Missoula":MAILTO:info@runwildmissoula.org
END:VEVENT
BEGIN:VEVENT
DTSTART;TZID=America/Denver:20260822T083000
DTEND;TZID=America/Denver:20260822T120000
DTSTAMP:20260421T072903
CREATED:20260417T193740Z
LAST-MODIFIED:20260417T193740Z
UID:13377-1787387400-1787400000@www.runwildmissoula.org
SUMMARY:Roots Run
DESCRIPTION:River City Roots 4 Mile Run is brought to you by Run Wild Missoula\, in partnership with Missoula Downtown Foundation. A 4-mile fun run in association with the River City Roots Festival. This 4-mile run pays tribute to the city’s love of recreation and staying active. All ages\, abilities and backgrounds are encouraged to enjoy a morning run or walk before the festival in the afternoon and evening!
URL:https://www.runwildmissoula.org/event/roots-run/
LOCATION:125 E Main St\, 125 E Main St\, Missoula\, MT\, 59802\, United States
ORGANIZER;CN="Run Wild Missoula":MAILTO:info@runwildmissoula.org
END:VEVENT
BEGIN:VEVENT
DTSTART;TZID=America/Denver:20260822T120000
DTEND;TZID=America/Denver:20260823T110000
DTSTAMP:20260421T072903
CREATED:20260417T194345Z
LAST-MODIFIED:20260417T194345Z
UID:13379-1787400000-1787482800@www.runwildmissoula.org
SUMMARY:Dog Days Ultra
DESCRIPTION:Welcome to the Dog Days Ultra!\n  \n  \nREGISTRATION OPENS MARCH 9 AT 8:00 AM (MST)\n  \nMissoula’s first closed-loop 24-hour race\, Dog Days Ultra presents runners with the opportunity to test both speed and endurance on a 1.68-mile gravel aggregate loop with a whopping 9 feet of elevation! Located at the Big Sky Park\, the race offers runners a supported environment to see just how far they can go as well as continuous and stunning 360 views of Missoula’s local mountain ranges.
URL:https://www.runwildmissoula.org/event/dog-days-ultra/
LOCATION:Big Sky Park\, Spurgin Rd\, Missoula\, MT\, 59804
ORGANIZER;CN="Run Wild Missoula":MAILTO:info@runwildmissoula.org
END:VEVENT
BEGIN:VEVENT
DTSTART;TZID=America/Denver:20260826T180000
DTEND;TZID=America/Denver:20260826T200000
DTSTAMP:20260421T072903
CREATED:20260309T191324Z
LAST-MODIFIED:20260309T191324Z
UID:13116-1787767200-1787774400@www.runwildmissoula.org
SUMMARY:Beer Run
DESCRIPTION:
URL:https://www.runwildmissoula.org/event/beer-run-7/
LOCATION:Highlander Brewing Co\, 200 International Drive\, Missoula\, MT\, 59808\, United States
END:VEVENT
END:VCALENDAR